BEGIN:VCALENDAR
VERSION:2.0
PRODID:-//Delta Protection Commission - ECPv6.15.20//NONSGML v1.0//EN
CALSCALE:GREGORIAN
METHOD:PUBLISH
X-WR-CALNAME:Delta Protection Commission
X-ORIGINAL-URL:https://delta.ca.gov
X-WR-CALDESC:Events for Delta Protection Commission
REFRESH-INTERVAL;VALUE=DURATION:PT1H
X-Robots-Tag:noindex
X-PUBLISHED-TTL:PT1H
BEGIN:VTIMEZONE
TZID:America/Los_Angeles
BEGIN:DAYLIGHT
TZOFFSETFROM:-0800
TZOFFSETTO:-0700
TZNAME:PDT
DTSTART:20200308T100000
END:DAYLIGHT
BEGIN:STANDARD
TZOFFSETFROM:-0700
TZOFFSETTO:-0800
TZNAME:PST
DTSTART:20201101T090000
END:STANDARD
BEGIN:DAYLIGHT
TZOFFSETFROM:-0800
TZOFFSETTO:-0700
TZNAME:PDT
DTSTART:20210314T100000
END:DAYLIGHT
BEGIN:STANDARD
TZOFFSETFROM:-0700
TZOFFSETTO:-0800
TZNAME:PST
DTSTART:20211107T090000
END:STANDARD
BEGIN:DAYLIGHT
TZOFFSETFROM:-0800
TZOFFSETTO:-0700
TZNAME:PDT
DTSTART:20220313T100000
END:DAYLIGHT
BEGIN:STANDARD
TZOFFSETFROM:-0700
TZOFFSETTO:-0800
TZNAME:PST
DTSTART:20221106T090000
END:STANDARD
END:VTIMEZONE
BEGIN:VEVENT
DTSTART;TZID=America/Los_Angeles:20210429T180000
DTEND;TZID=America/Los_Angeles:20210429T193000
DTSTAMP:20260425T211730
CREATED:20210405T153545Z
LAST-MODIFIED:20210818T211351Z
UID:216710-1619719200-1619724600@delta.ca.gov
SUMMARY:Delta Marketing Workshop Series - Websites
DESCRIPTION:Watch the workshop recording \nAre you a small business owner in the Delta and looking for easy\, low-cost ways to expand your marketing efforts? The Delta Protection Commission\, Sacramento-San Joaquin Delta Conservancy\, and Visit CA Delta invite you to a free\, four-part Delta Marketing Workshop Series to help your small business grow and thrive. We know that marketing your business on top of running the many other aspects of your business can feel like a daunting task\, and we would like to help you with simple\, step-by-step actions that you can take to share your products and services with your customers. \nThe first workshop will focus on establishing and maintaining a website – why it’s important\, hosting platforms\, the basics of user-friendly design\, sharing the right content\, and tips to help you spend minimal time and money while still maximizing your online presence. \n\n\nPlease join us on Thursday\, April 29\, 2021 from 6:00 PM to 7:30 PM via Zoom for this free and informative session. We will share helpful examples of Delta business websites and you will hear experiences from other Delta business leaders about their best practices. There will also be plenty of time for questions! \n\n\nFull Workshop Series:\nApril 29\, 2021 – Websites (Workshop recording available)\nMay 27\, 2021 – Social media (Workshop recording available)\nJune 24\, 2021 – In-person marketing (Workshop recording coming soon)\nJuly 29\, 2021 – Mixed Bag (Workshop recording available) \n\n\n 
URL:https://delta.ca.gov/calendar/marketing-workshop-1/
LOCATION:Virtual
CATEGORIES:Other Delta Related Agency Meetings
ORGANIZER;CN="Delta Protection Commission":MAILTO:dpc@delta.ca.gov
END:VEVENT
END:VCALENDAR