BEGIN:VCALENDAR
VERSION:2.0
PRODID:-//Delta Protection Commission - ECPv6.15.20//NONSGML v1.0//EN
CALSCALE:GREGORIAN
METHOD:PUBLISH
X-WR-CALNAME:Delta Protection Commission
X-ORIGINAL-URL:https://delta.ca.gov
X-WR-CALDESC:Events for Delta Protection Commission
REFRESH-INTERVAL;VALUE=DURATION:PT1H
X-Robots-Tag:noindex
X-PUBLISHED-TTL:PT1H
BEGIN:VTIMEZONE
TZID:America/Los_Angeles
BEGIN:DAYLIGHT
TZOFFSETFROM:-0800
TZOFFSETTO:-0700
TZNAME:PDT
DTSTART:20200308T100000
END:DAYLIGHT
BEGIN:STANDARD
TZOFFSETFROM:-0700
TZOFFSETTO:-0800
TZNAME:PST
DTSTART:20201101T090000
END:STANDARD
BEGIN:DAYLIGHT
TZOFFSETFROM:-0800
TZOFFSETTO:-0700
TZNAME:PDT
DTSTART:20210314T100000
END:DAYLIGHT
BEGIN:STANDARD
TZOFFSETFROM:-0700
TZOFFSETTO:-0800
TZNAME:PST
DTSTART:20211107T090000
END:STANDARD
BEGIN:DAYLIGHT
TZOFFSETFROM:-0800
TZOFFSETTO:-0700
TZNAME:PDT
DTSTART:20220313T100000
END:DAYLIGHT
BEGIN:STANDARD
TZOFFSETFROM:-0700
TZOFFSETTO:-0800
TZNAME:PST
DTSTART:20221106T090000
END:STANDARD
END:VTIMEZONE
BEGIN:VEVENT
DTSTART;TZID=America/Los_Angeles:20210511T170000
DTEND;TZID=America/Los_Angeles:20210511T190000
DTSTAMP:20260425T211707
CREATED:20210506T173224Z
LAST-MODIFIED:20210506T174504Z
UID:216789-1620752400-1620759600@delta.ca.gov
SUMMARY:Delta Marketing Task Force Meeting
DESCRIPTION:We are hosting a virtual Delta Marketing Task Force meeting to share with you some exciting updates and to hear your feedback on several upcoming and potential projects\, including: \nDelta Marketing Workshop Series  \nWe will discuss the first marketing workshop help in April and the remaining three workshops in May\, June\, and July. Your feedback will help us refine the remaining workshops to meet the needs of Delta business leaders. Also\, we are looking for more Delta business owners who would be willing to share their experiences in marketing. \nFull Workshop Series:\nApril 29\, 2021 – Websites\nMay 27\, 2021 – Social media\nJune 24\, 2021 – In-person marketing\nJuly 29\, 2021 – Mixed Bag \nBest of the Delta  \nIt’s that time of the year again! The 5th annual Best of the Delta survey will run from mid-June through July. In celebration of the 5-year anniversary of Best of the Delta\, and to further support Delta businesses\, we propose expanding the number of categories to 20 and using the most popular categories of the past 4 years. \nLow-Cost Marketing Efforts  \nWe know the past year has been especially challenging for Delta tourism. We want to hear about your ideas for low-cost marketing efforts. This will be an initial discussion and will lead to a second meeting to finalize options based on available funding. \nUpdates  \nWe would also like to share a few updates with you related to the “Welcome” signs\, the update to the Recreation & Tourism chapter of the Economic Sustainability Plan\, branding of the Sacramento-San Joaquin Delta National Heritage Area\, and improvements to the Visit CA Delta website. \nMeeting Details \nRegister via Zoom. After you register\, information to join the meeting will be emailed to you. \nThe Delta Marketing Task Force is a group of Delta organizations\, businesses\, and residents that provide direction on the Visit CA Delta website\, social media\, and other marketing opportunities. The Task Force meets 1-3 times a year. If you are interested in joining the Delta Marketing Task Force for the first time\, please contact Stacy Hayden at 916-202-1674 or stacy.hayden@delta.ca.gov
URL:https://delta.ca.gov/calendar/delta-marketing-task-force-meeting/
LOCATION:Virtual
CATEGORIES:Other Delta Related Agency Meetings
ORGANIZER;CN="Delta Protection Commission":MAILTO:dpc@delta.ca.gov
END:VEVENT
END:VCALENDAR