BEGIN:VCALENDAR
VERSION:2.0
PRODID:-//Delta Protection Commission - ECPv6.15.20//NONSGML v1.0//EN
CALSCALE:GREGORIAN
METHOD:PUBLISH
X-ORIGINAL-URL:https://delta.ca.gov
X-WR-CALDESC:Events for Delta Protection Commission
REFRESH-INTERVAL;VALUE=DURATION:PT1H
X-Robots-Tag:noindex
X-PUBLISHED-TTL:PT1H
BEGIN:VTIMEZONE
TZID:America/Los_Angeles
BEGIN:DAYLIGHT
TZOFFSETFROM:-0800
TZOFFSETTO:-0700
TZNAME:PDT
DTSTART:20210314T100000
END:DAYLIGHT
BEGIN:STANDARD
TZOFFSETFROM:-0700
TZOFFSETTO:-0800
TZNAME:PST
DTSTART:20211107T090000
END:STANDARD
BEGIN:DAYLIGHT
TZOFFSETFROM:-0800
TZOFFSETTO:-0700
TZNAME:PDT
DTSTART:20220313T100000
END:DAYLIGHT
BEGIN:STANDARD
TZOFFSETFROM:-0700
TZOFFSETTO:-0800
TZNAME:PST
DTSTART:20221106T090000
END:STANDARD
BEGIN:DAYLIGHT
TZOFFSETFROM:-0800
TZOFFSETTO:-0700
TZNAME:PDT
DTSTART:20230312T100000
END:DAYLIGHT
BEGIN:STANDARD
TZOFFSETFROM:-0700
TZOFFSETTO:-0800
TZNAME:PST
DTSTART:20231105T090000
END:STANDARD
END:VTIMEZONE
BEGIN:VEVENT
DTSTART;TZID=America/Los_Angeles:20220505T150000
DTEND;TZID=America/Los_Angeles:20220505T150000
DTSTAMP:20260424T113544
CREATED:20220428T171833Z
LAST-MODIFIED:20240603T191544Z
UID:217607-1651762800-1651762800@delta.ca.gov
SUMMARY:Sacramento-San Joaquin Delta National Heritage Area (Delta NHA) Management Plan Advisory Committee Meeting
DESCRIPTION:Teleconference and Web-based (Zoom) Meeting Only; No Physical Meeting Location \nThe Delta NHA agenda includes discussions on the NHA mission and vision statements\, the Heritage Development & Tourism and Resource Stewardship objectives\, strategies\, and roles\, plus the Management Plan Resource Inventory.
URL:https://delta.ca.gov/calendar/delta-nha-meeting-may-2022/
LOCATION:Virtual
CATEGORIES:Other Delta Related Agency Meetings
ORGANIZER;CN="Delta Protection Commission":MAILTO:dpc@delta.ca.gov
END:VEVENT
BEGIN:VEVENT
DTSTART;TZID=America/Los_Angeles:20220505T150000
DTEND;TZID=America/Los_Angeles:20220505T170000
DTSTAMP:20260424T113544
CREATED:20220425T171956Z
LAST-MODIFIED:20231109T212522Z
UID:217585-1651762800-1651770000@delta.ca.gov
SUMMARY:Executive Director Screening Subcommittee Meeting
DESCRIPTION:Administrative Agenda\n1. Call to order\n2. Public Comment \nClosed Session\n3. Review of Executive Director Applications (closed session pursuant to Government Code Section 11126(a)(1)) \nOpen Session\n4. Report from Closed Session\n5. Adjourn
URL:https://delta.ca.gov/calendar/executive-director-screening-subcommittee-meeting/
LOCATION:Sacramento County Farm Bureau\, 8970 Elk Grove Blvd.\, Elk Grove\, CA\, 95624
CATEGORIES:Delta Protection Commission Meetings
ORGANIZER;CN="Delta Protection Commission":MAILTO:dpc@delta.ca.gov
END:VEVENT
END:VCALENDAR