BEGIN:VCALENDAR
VERSION:2.0
PRODID:-//Delta Protection Commission - ECPv6.15.20//NONSGML v1.0//EN
CALSCALE:GREGORIAN
METHOD:PUBLISH
X-WR-CALNAME:Delta Protection Commission
X-ORIGINAL-URL:https://delta.ca.gov
X-WR-CALDESC:Events for Delta Protection Commission
REFRESH-INTERVAL;VALUE=DURATION:PT1H
X-Robots-Tag:noindex
X-PUBLISHED-TTL:PT1H
BEGIN:VTIMEZONE
TZID:America/Los_Angeles
BEGIN:DAYLIGHT
TZOFFSETFROM:-0800
TZOFFSETTO:-0700
TZNAME:PDT
DTSTART:20210314T100000
END:DAYLIGHT
BEGIN:STANDARD
TZOFFSETFROM:-0700
TZOFFSETTO:-0800
TZNAME:PST
DTSTART:20211107T090000
END:STANDARD
BEGIN:DAYLIGHT
TZOFFSETFROM:-0800
TZOFFSETTO:-0700
TZNAME:PDT
DTSTART:20220313T100000
END:DAYLIGHT
BEGIN:STANDARD
TZOFFSETFROM:-0700
TZOFFSETTO:-0800
TZNAME:PST
DTSTART:20221106T090000
END:STANDARD
BEGIN:DAYLIGHT
TZOFFSETFROM:-0800
TZOFFSETTO:-0700
TZNAME:PDT
DTSTART:20230312T100000
END:DAYLIGHT
BEGIN:STANDARD
TZOFFSETFROM:-0700
TZOFFSETTO:-0800
TZNAME:PST
DTSTART:20231105T090000
END:STANDARD
END:VTIMEZONE
BEGIN:VEVENT
DTSTART;TZID=America/Los_Angeles:20220830T170000
DTEND;TZID=America/Los_Angeles:20220830T190000
DTSTAMP:20260424T042732
CREATED:20220822T235629Z
LAST-MODIFIED:20220822T235629Z
UID:217774-1661878800-1661886000@delta.ca.gov
SUMMARY:Delta Protection Advisory Committee (DPAC) Meeting
DESCRIPTION:The August 30\, 2022 DPAC meeting will be held virtually via zoom. There will be no physical meeting location. \nJoin via Zoom:\nMeeting ID: 811 9082 0157\nPassword: 222444 \nJoin by phone: 8883634734 (US Toll Free)\nAccess code: 425546 (Press #after entering)
URL:https://delta.ca.gov/calendar/delta-protection-advisory-committee-dpac-meeting-3/
LOCATION:Remote Meeting via Zoom
CATEGORIES:Delta Protection Commission Meetings
END:VEVENT
END:VCALENDAR