BEGIN:VCALENDAR
VERSION:2.0
PRODID:-//Delta Protection Commission - ECPv6.15.20//NONSGML v1.0//EN
CALSCALE:GREGORIAN
METHOD:PUBLISH
X-ORIGINAL-URL:https://delta.ca.gov
X-WR-CALDESC:Events for Delta Protection Commission
REFRESH-INTERVAL;VALUE=DURATION:PT1H
X-Robots-Tag:noindex
X-PUBLISHED-TTL:PT1H
BEGIN:VTIMEZONE
TZID:America/Los_Angeles
BEGIN:DAYLIGHT
TZOFFSETFROM:-0800
TZOFFSETTO:-0700
TZNAME:PDT
DTSTART:20210314T100000
END:DAYLIGHT
BEGIN:STANDARD
TZOFFSETFROM:-0700
TZOFFSETTO:-0800
TZNAME:PST
DTSTART:20211107T090000
END:STANDARD
BEGIN:DAYLIGHT
TZOFFSETFROM:-0800
TZOFFSETTO:-0700
TZNAME:PDT
DTSTART:20220313T100000
END:DAYLIGHT
BEGIN:STANDARD
TZOFFSETFROM:-0700
TZOFFSETTO:-0800
TZNAME:PST
DTSTART:20221106T090000
END:STANDARD
BEGIN:DAYLIGHT
TZOFFSETFROM:-0800
TZOFFSETTO:-0700
TZNAME:PDT
DTSTART:20230312T100000
END:DAYLIGHT
BEGIN:STANDARD
TZOFFSETFROM:-0700
TZOFFSETTO:-0800
TZNAME:PST
DTSTART:20231105T090000
END:STANDARD
END:VTIMEZONE
BEGIN:VEVENT
DTSTART;TZID=America/Los_Angeles:20220915T170000
DTEND;TZID=America/Los_Angeles:20220915T193000
DTSTAMP:20260424T042850
CREATED:20211216T175935Z
LAST-MODIFIED:20240920T230202Z
UID:217302-1663261200-1663270200@delta.ca.gov
SUMMARY:Delta Protection Commission Meeting
DESCRIPTION:Administrative Agenda\n1. Call to order and Flag Salute \n2. Welcome & Roll Call \n3. Public Comment – an opportunity for members of the public to address the Commission regarding items not on the Agenda \n4. Report on Delta Stewardship Council activities – Chair Don Nottoli \n5. Commissioner comments/announcements \nConsent Agenda\n6. Consider approval of July 21\, 2022 meeting minutes \nRegular Agenda\n7. Recognition of Service for former Executive Director\, Erik Vink \n8. Receive Executive Director report – Bruce Blodgett \nItem 8. Executive Director’s Report \n9. Receive Delta Protection Advisory Committee (DPAC) report – Mariah Looney (DPAC Chair) \n10. Receive report on 2022 Delta Flood Preparedness activities and consider approval of Delta Flood Preparedness Week resolution – Kirsten Pringle\, Senior Environmental Planner \n11. Receive report on Delta National Heritage Area (NHA) and consider delegation of authority – Dr. Blake Roberts\, Program Manager \n12. Receive update on Delta Conveyance Project environmental review – Virginia Gardiner\, Program Manager \n13. Adjourn
URL:https://delta.ca.gov/calendar/commission-meeting-septmember-2022/
LOCATION:Jean Harvie Community Center\, 14273 River Road\, Walnut Grove\, CA\, 95690
CATEGORIES:Delta Protection Commission Meetings
ORGANIZER;CN="Delta Protection Commission":MAILTO:dpc@delta.ca.gov
END:VEVENT
END:VCALENDAR