BEGIN:VCALENDAR
VERSION:2.0
PRODID:-//Delta Protection Commission - ECPv6.15.20//NONSGML v1.0//EN
CALSCALE:GREGORIAN
METHOD:PUBLISH
X-WR-CALNAME:Delta Protection Commission
X-ORIGINAL-URL:https://delta.ca.gov
X-WR-CALDESC:Events for Delta Protection Commission
REFRESH-INTERVAL;VALUE=DURATION:PT1H
X-Robots-Tag:noindex
X-PUBLISHED-TTL:PT1H
BEGIN:VTIMEZONE
TZID:America/Los_Angeles
BEGIN:DAYLIGHT
TZOFFSETFROM:-0800
TZOFFSETTO:-0700
TZNAME:PDT
DTSTART:20220313T100000
END:DAYLIGHT
BEGIN:STANDARD
TZOFFSETFROM:-0700
TZOFFSETTO:-0800
TZNAME:PST
DTSTART:20221106T090000
END:STANDARD
BEGIN:DAYLIGHT
TZOFFSETFROM:-0800
TZOFFSETTO:-0700
TZNAME:PDT
DTSTART:20230312T100000
END:DAYLIGHT
BEGIN:STANDARD
TZOFFSETFROM:-0700
TZOFFSETTO:-0800
TZNAME:PST
DTSTART:20231105T090000
END:STANDARD
BEGIN:DAYLIGHT
TZOFFSETFROM:-0800
TZOFFSETTO:-0700
TZNAME:PDT
DTSTART:20240310T100000
END:DAYLIGHT
BEGIN:STANDARD
TZOFFSETFROM:-0700
TZOFFSETTO:-0800
TZNAME:PST
DTSTART:20241103T090000
END:STANDARD
END:VTIMEZONE
BEGIN:VEVENT
DTSTART;TZID=America/Los_Angeles:20230801T173000
DTEND;TZID=America/Los_Angeles:20230801T193000
DTSTAMP:20260423T090610
CREATED:20230720T001448Z
LAST-MODIFIED:20250424T225048Z
UID:218402-1690911000-1690918200@delta.ca.gov
SUMMARY:Delta Protection Advisory Committee
DESCRIPTION:The Delta Protection Advisory Committee (DPAC) provides recommendations to the Delta Protection Commission on diverse interests within the Delta\, including the Delta’s ecosystem\, water supply\, socioeconomic sustainability\, recreation\, agriculture\, flood control\, environment\, water resources\, utility infrastructure\, and other Delta issues. This fifteen-member committee is appointed by the Commission and meets regularly; members serve three-year terms and may be re-appointed. Meetings are open to the public and everyone’s input is welcome. The Committee was created by the Delta Protection Act\, Public Resources Code Section 29753(a). This is its Charter (PDF). \nPUBLIC NOTICE AND MEETING AGENDA\nDelta Protection Advisory Committee (DPAC)\nTuesday\, August 1\, 2023 – 5:30 p.m.\nHeringer Estates Winery\n37375 Neatherlands Road\nClarksburg\, CA \n1. Call to Order/Flag Salute/Welcome – Anna Swenson\, DPAC Chair \n2. Public Comment – An opportunity for members of the public to address the Committee regarding\nitems not on the agenda \n3. Approve April and June Meeting Notes – The Committee – April Notes (PDF) and June Notes (PDF) \n4. County Abandoned vessel programs – The Committee \n5. Harmful algal blooms – The Committee \n6. Invasive plant control presentation – Edward Hard\, Boating and Waterways \n7. Discussion of Levee Funding – Bruce Blodgett \n8. Receive update on Delta Protection Commission activities – Bruce Blodgett \n9. Adding a Delta Tribal and additional delta business representative – Bruce Blodgett \n10. Member Announcements and Next Meeting \n11. Adjourn
URL:https://delta.ca.gov/calendar/dpac-2023-08-01/
LOCATION:Heringer Estates Winery\, 37375 Netherlands Rd\, Clarksburg\, CA\, 95612
CATEGORIES:Delta Protection Commission Meetings
ORGANIZER;CN="Delta Protection Commission":MAILTO:dpc@delta.ca.gov
END:VEVENT
END:VCALENDAR