BEGIN:VCALENDAR
VERSION:2.0
PRODID:-//Delta Protection Commission - ECPv6.15.20//NONSGML v1.0//EN
CALSCALE:GREGORIAN
METHOD:PUBLISH
X-ORIGINAL-URL:https://delta.ca.gov
X-WR-CALDESC:Events for Delta Protection Commission
REFRESH-INTERVAL;VALUE=DURATION:PT1H
X-Robots-Tag:noindex
X-PUBLISHED-TTL:PT1H
BEGIN:VTIMEZONE
TZID:America/Los_Angeles
BEGIN:DAYLIGHT
TZOFFSETFROM:-0800
TZOFFSETTO:-0700
TZNAME:PDT
DTSTART:20220313T100000
END:DAYLIGHT
BEGIN:STANDARD
TZOFFSETFROM:-0700
TZOFFSETTO:-0800
TZNAME:PST
DTSTART:20221106T090000
END:STANDARD
BEGIN:DAYLIGHT
TZOFFSETFROM:-0800
TZOFFSETTO:-0700
TZNAME:PDT
DTSTART:20230312T100000
END:DAYLIGHT
BEGIN:STANDARD
TZOFFSETFROM:-0700
TZOFFSETTO:-0800
TZNAME:PST
DTSTART:20231105T090000
END:STANDARD
BEGIN:DAYLIGHT
TZOFFSETFROM:-0800
TZOFFSETTO:-0700
TZNAME:PDT
DTSTART:20240310T100000
END:DAYLIGHT
BEGIN:STANDARD
TZOFFSETFROM:-0700
TZOFFSETTO:-0800
TZNAME:PST
DTSTART:20241103T090000
END:STANDARD
END:VTIMEZONE
BEGIN:VEVENT
DTSTART;TZID=America/Los_Angeles:20230921T170000
DTEND;TZID=America/Los_Angeles:20230921T190000
DTSTAMP:20260423T073550
CREATED:20221123T234328Z
LAST-MODIFIED:20231212T182224Z
UID:217980-1695315600-1695322800@delta.ca.gov
SUMMARY:Delta Protection Commission Meeting
DESCRIPTION:The Delta Protection Commission was created by the Delta Protection Act of 1992 (Act)\, codified in the Public Resources Code and most recently amended in November 2009. \nThe Act declared that the Delta is a natural resource of statewide\, national\, and international significance\, containing irreplaceable resources\, and that it is the policy of the State to recognize\, preserve\, and protect those resources of the Delta for the use and enjoyment of current and future generations\, in a manner that protects and enhances the unique values of the Delta as an evolving place. \nThe Commission is a forum for Delta residents to engage in decisions regarding actions to recognize and enhance the unique cultural\, recreational\, and agricultural resources of the Delta. The Commission is also guided by regulations found in the California Code of Regulations\, Title XIV\, Division 9. \nThe Commission meets six times a year\, in odd months\, and the September 2023 meeting will be held Sept. 21 at 5 p.m. at The Village West Marina and Resort in Stockton. \nThe agenda is available in Spanish: Orden del día de la Comisión de Protección del Delta\, en español (PDF). The agenda packet\, which includes staff reports and available presentations\, is available on request by emailing submit@delta.ca.gov. \nThe minutes for this meeting were approved Nov. 16\, 2023. \nPUBLIC NOTICE AND MEETING AGENDA\nDelta Protection Commission\nThursday\, September 21\, 2023\n5 p.m. to 7 p.m. (End time of the meeting is approximate)\nVillage West Marina and Resort\n6649 Embarcadero Drive\nStockton\, CA 95219 \n1. Call to order and Flag Salute\n2. Welcome & Roll Call\n3. Public Comment – an opportunity for members of the public to address the Commission regarding items not on the agenda\n4. Report on Delta Stewardship Council Activities – Chair Diane Burgis\n5. Commissioner Comments/Announcements \nConsent Agenda\n6. Consider Approval of Draft July 20\, 2023 Meeting Minutes \nRegular Agenda\n7. National Heritage Area Management Plan update – Blake Roberts\n8. Receive Executive Director Report – Bruce Blodgett\, Executive Director\n9. Receive Delta as Place Report – Jeff Wingfield\, Port of Stockton\n10. Receive Delta Protection Advisory Committee (DPAC) Report – Anna Swenson (DPAC Chair)\n11. Consider amending DPAC Charter to add one tribal representative and one additional public member (PRC § 29753) – Bruce Blodgett\, Executive Director\n12. Bagley-Keene Training – Carlos Mejia (DOJ Attorney)\n13. Adjourn
URL:https://delta.ca.gov/calendar/dpc-2023-09-21/
LOCATION:Village West Marina\, 6649 Embarcadero Dr\, Stockton\, CA
CATEGORIES:Delta Protection Commission Meetings
END:VEVENT
END:VCALENDAR