BEGIN:VCALENDAR
VERSION:2.0
PRODID:-//Delta Protection Commission - ECPv6.15.20//NONSGML v1.0//EN
CALSCALE:GREGORIAN
METHOD:PUBLISH
X-ORIGINAL-URL:https://delta.ca.gov
X-WR-CALDESC:Events for Delta Protection Commission
REFRESH-INTERVAL;VALUE=DURATION:PT1H
X-Robots-Tag:noindex
X-PUBLISHED-TTL:PT1H
BEGIN:VTIMEZONE
TZID:America/Los_Angeles
BEGIN:DAYLIGHT
TZOFFSETFROM:-0800
TZOFFSETTO:-0700
TZNAME:PDT
DTSTART:20220313T100000
END:DAYLIGHT
BEGIN:STANDARD
TZOFFSETFROM:-0700
TZOFFSETTO:-0800
TZNAME:PST
DTSTART:20221106T090000
END:STANDARD
BEGIN:DAYLIGHT
TZOFFSETFROM:-0800
TZOFFSETTO:-0700
TZNAME:PDT
DTSTART:20230312T100000
END:DAYLIGHT
BEGIN:STANDARD
TZOFFSETFROM:-0700
TZOFFSETTO:-0800
TZNAME:PST
DTSTART:20231105T090000
END:STANDARD
BEGIN:DAYLIGHT
TZOFFSETFROM:-0800
TZOFFSETTO:-0700
TZNAME:PDT
DTSTART:20240310T100000
END:DAYLIGHT
BEGIN:STANDARD
TZOFFSETFROM:-0700
TZOFFSETTO:-0800
TZNAME:PST
DTSTART:20241103T090000
END:STANDARD
END:VTIMEZONE
BEGIN:VEVENT
DTSTART;TZID=America/Los_Angeles:20231010T173000
DTEND;TZID=America/Los_Angeles:20231010T193000
DTSTAMP:20260423T053619
CREATED:20230807T184558Z
LAST-MODIFIED:20231221T011055Z
UID:218453-1696959000-1696966200@delta.ca.gov
SUMMARY:Delta Protection Advisory Committee
DESCRIPTION:The Delta Protection Advisory Committee (DPAC) provides recommendations to the Delta Protection Commission on diverse interests within the Delta\, including the Delta’s ecosystem\, water supply\, socioeconomic sustainability\, recreation\, agriculture\, flood control\, environment\, water resources\, utility infrastructure\, and other Delta issues. This fifteen-member committee is appointed by the Commission and meets regularly; members serve three-year terms and may be re-appointed. Meetings are open to the public and everyone’s input is welcome. The Committee was created by the Delta Protection Act\, Public Resources Code Section 29753(a). This is its Charter (PDF). \nThe October 2023 meeting has been rescheduled from Oct. 3 to Oct. 10. \nApproved minutes for the Oct. 10\, 2023\, meeting (PDF) \nPUBLIC NOTICE AND MEETING AGENDA \nDelta Protection Advisory Committee (DPAC) \nTuesday\, October 10\, 2023 – 5:30 p.m.\nWimpy’s Marina\, Restaurant\, Bar and RV Park\n14001 W Walnut Grove Rd\, Walnut Grove\, CA 95690  \n\nCall to Order/Flag Salute/Welcome – Anna Swenson\, DPAC Chair \nPublic Comment – An opportunity for members of the public to address the Committee regarding items not on the agenda \nApprove April\, June and August Meeting Notes – The Committee \nPresentation on Broadband – Vice Chair Ryan \nDiscussion of Levee Funding – Bruce Blodgett \nReceive update on Delta Protection Commission activities – Bruce Blodgett \nOverview of Commission Policies and Strategies Relating to Aquatic Invasive Species – Virginia Gardiner \nMember Announcements and Next Meeting \nAdjourn \n\nIf you have any questions or need reasonable accommodations due to a disability\, please contact Delta Protection Commission at dpc@delta.ca.gov or (916) 375-4800. Additional information can be found on the Delta Protection Commission website: https://delta.ca.gov/  \nThe agenda items listed above may be considered in a different order at the meeting\, subject to the discretion of the Chair. At the discretion of the Committee\, all items appearing on this agenda may be deliberated upon and may be subject to action. The Committee welcomes and encourages participation in its meetings.  \nDelta Protection Advisory Committee members: Chair Anna Swenson (Delta general public); Vice-Chair Russ Ryan (Delta water exporter); Robyn Brown and Arron Pellarin (Delta business); Craig Watanabe and Gary Mello (Delta agriculture); Todd Bruce and Morris Lum (Delta recreation); Edward Hard and Erin Chappell (State agency); Chris Elias (Delta flood entity); Mariah Looney (Delta organization); Jim Cox (Delta habitat/conservation non-governmental entity); Sam Garcia (Delta utility/related infrastructure); and Douglas Hsia (Delta Cultural Preservation).  In addition\, other public agency representatives (California Department of Water Resources\, U.S. Bureau of Reclamation\, U.S. Fish and Wildlife Service\, Delta Stewardship Council\, Sacramento-San Joaquin Delta Conservancy) also participate as ex-officio members.  \n 
URL:https://delta.ca.gov/calendar/delta-protection-advisory-committee-2023-10-03/
LOCATION:Wimpys Marina Cafe\, 14001 Walnut Grove\, Walnut Grove\, 95690
CATEGORIES:Delta Protection Commission Meetings
ORGANIZER;CN="Delta Protection Commission":MAILTO:dpc@delta.ca.gov
END:VEVENT
END:VCALENDAR