BEGIN:VCALENDAR
VERSION:2.0
PRODID:-//Delta Protection Commission - ECPv6.15.20//NONSGML v1.0//EN
CALSCALE:GREGORIAN
METHOD:PUBLISH
X-ORIGINAL-URL:https://delta.ca.gov
X-WR-CALDESC:Events for Delta Protection Commission
REFRESH-INTERVAL;VALUE=DURATION:PT1H
X-Robots-Tag:noindex
X-PUBLISHED-TTL:PT1H
BEGIN:VTIMEZONE
TZID:America/Los_Angeles
BEGIN:DAYLIGHT
TZOFFSETFROM:-0800
TZOFFSETTO:-0700
TZNAME:PDT
DTSTART:20220313T100000
END:DAYLIGHT
BEGIN:STANDARD
TZOFFSETFROM:-0700
TZOFFSETTO:-0800
TZNAME:PST
DTSTART:20221106T090000
END:STANDARD
BEGIN:DAYLIGHT
TZOFFSETFROM:-0800
TZOFFSETTO:-0700
TZNAME:PDT
DTSTART:20230312T100000
END:DAYLIGHT
BEGIN:STANDARD
TZOFFSETFROM:-0700
TZOFFSETTO:-0800
TZNAME:PST
DTSTART:20231105T090000
END:STANDARD
BEGIN:DAYLIGHT
TZOFFSETFROM:-0800
TZOFFSETTO:-0700
TZNAME:PDT
DTSTART:20240310T100000
END:DAYLIGHT
BEGIN:STANDARD
TZOFFSETFROM:-0700
TZOFFSETTO:-0800
TZNAME:PST
DTSTART:20241103T090000
END:STANDARD
END:VTIMEZONE
BEGIN:VEVENT
DTSTART;TZID=America/Los_Angeles:20231012T150000
DTEND;TZID=America/Los_Angeles:20231012T170000
DTSTAMP:20260423T053715
CREATED:20230925T163102Z
LAST-MODIFIED:20231002T180230Z
UID:218556-1697122800-1697130000@delta.ca.gov
SUMMARY:Delta National Heritage Area Management Plan Advisory Committee
DESCRIPTION:The Delta Protection Commission is the entity responsible for preparing a management plan for the Sacramento-San Joaquin Delta National Heritage Area\, which was created by Congress in 2019 (PDF). To advance that goal\, the Commission created a 15-member volunteer NHA Management Plan Advisory Committee – read its charter (PDF) – to develop the plan. \nThe NHA Committee is scheduled to meet every month until the management plan is approved by the Secretary of the Interior. The next meeting will be held 3-5 p.m. Thursday\, Oct. 12. The agenda is as follows: \nPUBLIC NOTICE AND MEETING AGENDA\nNational Heritage Area Management Plan Advisory Committee (NHA Advisory Committee)\nThursday\, Oct. 12\, 2023 – 3:00 p.m. \nMeeting Location\nSacramento Public Library\, Walnut Grove Branch\n14177 Market Street\nWalnut Grove\, CA 95690 \nWebcast\nMeeting URL: Single Click\nMeeting ID: 289 700 424 634\nPassword: qr7cd6\nPhone number: +1 (916) 573-2034\nAccess Code: 858 145 093 (press # after entering code) \nAgenda\n\nCall to Order – Bruce Blodgett\, NHA Advisory Committee Chair\nPublic Comment – An opportunity for members of the public to address the NHA Advisory Committee regarding items not on the Agenda\nNHA Advisory Committee Member Updates (10 mins.)\nOutline of Management Plan Chapters – Nancy Morgan\, Point Heritage Development Consulting (PointHDC) and Blake Roberts\, Delta Protection Commission (20 mins.)\nRequested Committee Guidance on Management Plan – Nancy Morgan\, PointHDC and Blake Roberts\, Delta Protection Commission (20 mins.)\nRequest for Management Plan Images – Nancy Morgan\, PointHDC (10 mins.)\nMember Announcements and Adjourn\n\nIf you have any questions or need reasonable accommodations due to a disability\, please contact Delta Protection Commission at dpc@delta.ca.gov or (916) 375-4800. Additional information can be found on the Delta Protection Commission website: delta.ca.gov. \nThe agenda items listed above may be considered in a different order at the meeting\, subject to the discretion of the Chair. At the discretion of the Committee\, all items appearing on this agenda may be deliberated upon and may be subject to action. The Committee welcomes and encourages participation in its meetings. \nNational Heritage Area Advisory Committee members\nChair Bruce Blodgett\, Vice Chair Elizabeth Patterson\, Karen Buhr (Ex Officio)\, Michael Campbell\, Lenora Clark\, Herbert “Lou” Griffin (Ex Officio)\, Jeff Henderson (Ex Officio)\, Paulette Hennum\, Matt Holmes\, Douglas Hsia\, Carol Jensen\, Janet Lake\, Matthew Moore (Ex Officio)\, Michael Moran (Ex Officio)\, Gia Moreno\, Trevor Rice (Ex Officio)\, David Stuart\, John Takekawa (Ex Officio)\, Malissa Tayaba\, Jan Vick\, Dan Whaley\, Jean Yokotobi. In addition\, other public agency representatives may also participate as ex-officio members.
URL:https://delta.ca.gov/calendar/delta-national-heritage-area-management-plan-advisory-committee-2023-10-12/
LOCATION:Sacramento Public Library\, Walnut Grove Branch\, 14177 Market Street\, Walnut Grove\, CA\, 95690\, United States
CATEGORIES:Delta Protection Commission Meetings
ORGANIZER;CN="Delta Protection Commission":MAILTO:dpc@delta.ca.gov
END:VEVENT
END:VCALENDAR