BEGIN:VCALENDAR
VERSION:2.0
PRODID:-//Delta Protection Commission - ECPv6.15.20//NONSGML v1.0//EN
CALSCALE:GREGORIAN
METHOD:PUBLISH
X-ORIGINAL-URL:https://delta.ca.gov
X-WR-CALDESC:Events for Delta Protection Commission
REFRESH-INTERVAL;VALUE=DURATION:PT1H
X-Robots-Tag:noindex
X-PUBLISHED-TTL:PT1H
BEGIN:VTIMEZONE
TZID:America/Los_Angeles
BEGIN:DAYLIGHT
TZOFFSETFROM:-0800
TZOFFSETTO:-0700
TZNAME:PDT
DTSTART:20220313T100000
END:DAYLIGHT
BEGIN:STANDARD
TZOFFSETFROM:-0700
TZOFFSETTO:-0800
TZNAME:PST
DTSTART:20221106T090000
END:STANDARD
BEGIN:DAYLIGHT
TZOFFSETFROM:-0800
TZOFFSETTO:-0700
TZNAME:PDT
DTSTART:20230312T100000
END:DAYLIGHT
BEGIN:STANDARD
TZOFFSETFROM:-0700
TZOFFSETTO:-0800
TZNAME:PST
DTSTART:20231105T090000
END:STANDARD
BEGIN:DAYLIGHT
TZOFFSETFROM:-0800
TZOFFSETTO:-0700
TZNAME:PDT
DTSTART:20240310T100000
END:DAYLIGHT
BEGIN:STANDARD
TZOFFSETFROM:-0700
TZOFFSETTO:-0800
TZNAME:PST
DTSTART:20241103T090000
END:STANDARD
END:VTIMEZONE
BEGIN:VEVENT
DTSTART;TZID=America/Los_Angeles:20231116T170000
DTEND;TZID=America/Los_Angeles:20231116T190000
DTSTAMP:20260423T034105
CREATED:20221123T234418Z
LAST-MODIFIED:20240502T205319Z
UID:217982-1700154000-1700161200@delta.ca.gov
SUMMARY:Delta Protection Commission Meeting
DESCRIPTION:PUBLIC NOTICE AND MEETING AGENDA\nDelta Protection Commission \nThursday\, November 16\, 2023\, 5:00 p.m. to 7:00 p.m. (End time of the meeting is approximate) \nSacramento Yacht Club\, 3365 Chicory Loop\, West Sacramento\, CA 95691 \nSpanish version: Orden del día \nThe complete agenda packet is here (PDF). The final minutes of this meeting are here. \nAgenda\n1. Call to order and Flag Salute \n2. Welcome & Roll Call \n3. Public Comment – an opportunity for members of the public to address the Commission regarding items not on the agenda \n4. Report on Delta Stewardship Council Activities – Chair Diane Burgis \n5. Commissioner Comments/Announcements \nConsent Agenda\n6. Consider Approval of Draft September 21\, 2023\, Meeting Minutes \n7. Consider Approval of 2024 meeting schedule \nRegular Agenda\n8. Public Comment on the National Heritage Area Management Plan – Blake Roberts \n9. Discuss proposed greenwaste facility at Interstate 5 and Twin Cities Road – Bruce Blodgett \n10. Receive Executive Director Report – Bruce Blodgett\, Executive Director \n11. Receive Delta as Place Report – yacht clubs and boating in the Delta – Morris Lum \n12. Receive Delta Protection Advisory Committee (DPAC) Report – Anna Swenson (DPAC Chair) \n13. Adjourn \nAdditional Information\nIf you have any questions or have a request for reasonable modification or accommodation due to a disability\, please contact Debra Waltman at debra.waltman@delta.ca.gov or 530-650-6362. Attachments and additional information can be found on the Delta Protection Commission website: delta.ca.gov \nComments submitted to submit@delta.ca.gov by noon on September 21\, 2023\, will be shared with Commissioners prior to the meeting to the extent possible. Public comments on each agenda item will follow the order of: 1) emailed comments\, 2) those verbally requesting to make comments after notice offered by Chair during meeting. \nThe agenda items listed above may be considered in a different order at the Commission meeting\, subject to the discretion of the Chair. At the discretion of the Commission\, all items appearing on this agenda\, whether or not expressly listed for action\, may be deliberated upon and may be subject to action. The Commission welcomes and encourages participation in its meetings. The Commission limits testimony to not more than three minutes per person\, or more time at the discretion of the Chair. \nDelta Protection Commission – Membership\nDiane Burgis\, Chair\nContra Costa County Board of Supervisors \nJohn Vasquez\, Vice Chair\nSolano County Board of Supervisors \nOscar Villegas\nYolo County Board of Supervisors \nPatrick Hume\nSacramento County Board of Supervisors \nSteve Ding\nSan Joaquin County Board of Supervisors \nRon Kott\nCities of Contra Costa and Solano Counties \nPaul Steele\nCities of Sacramento and Yolo Counties \nAlan Nakanishi\nCities of San Joaquin County \nJim Paroli\nCentral Delta Reclamation Districts \nTom Slater\nNorth Delta Reclamation Districts \nNick Mussi\nSouth Delta Reclamation Districts \nToks Omishakin\nCA State Transportation Agency \nKaren Ross\nCA Department of Food and Agriculture \nWade Crowfoot\nCA Natural Resources Agency \nBrian Bugsch\nCA State Lands Commission \nEx Officio Members\nCarlos Villapudua\nCalifornia State Assembly \nSusan Talamantes Eggman\nCalifornia State Senate
URL:https://delta.ca.gov/calendar/dpc-2023-11-16/
LOCATION:Sacramento Yacht Club\, 3365 Chicory Loop\, West Sacramento\, CA\, 95691\, United States
CATEGORIES:Delta Protection Commission Meetings
END:VEVENT
END:VCALENDAR