BEGIN:VCALENDAR
VERSION:2.0
PRODID:-//Delta Protection Commission - ECPv6.15.20//NONSGML v1.0//EN
CALSCALE:GREGORIAN
METHOD:PUBLISH
X-WR-CALNAME:Delta Protection Commission
X-ORIGINAL-URL:https://delta.ca.gov
X-WR-CALDESC:Events for Delta Protection Commission
REFRESH-INTERVAL;VALUE=DURATION:PT1H
X-Robots-Tag:noindex
X-PUBLISHED-TTL:PT1H
BEGIN:VTIMEZONE
TZID:America/Los_Angeles
BEGIN:DAYLIGHT
TZOFFSETFROM:-0800
TZOFFSETTO:-0700
TZNAME:PDT
DTSTART:20230312T100000
END:DAYLIGHT
BEGIN:STANDARD
TZOFFSETFROM:-0700
TZOFFSETTO:-0800
TZNAME:PST
DTSTART:20231105T090000
END:STANDARD
BEGIN:DAYLIGHT
TZOFFSETFROM:-0800
TZOFFSETTO:-0700
TZNAME:PDT
DTSTART:20240310T100000
END:DAYLIGHT
BEGIN:STANDARD
TZOFFSETFROM:-0700
TZOFFSETTO:-0800
TZNAME:PST
DTSTART:20241103T090000
END:STANDARD
BEGIN:DAYLIGHT
TZOFFSETFROM:-0800
TZOFFSETTO:-0700
TZNAME:PDT
DTSTART:20250309T100000
END:DAYLIGHT
BEGIN:STANDARD
TZOFFSETFROM:-0700
TZOFFSETTO:-0800
TZNAME:PST
DTSTART:20251102T090000
END:STANDARD
END:VTIMEZONE
BEGIN:VEVENT
DTSTART;TZID=America/Los_Angeles:20240111T130000
DTEND;TZID=America/Los_Angeles:20240111T150000
DTSTAMP:20260423T040210
CREATED:20231230T034253Z
LAST-MODIFIED:20231230T034253Z
UID:219184-1704978000-1704985200@delta.ca.gov
SUMMARY:Delta National Heritage Area Management Plan Advisory Committee
DESCRIPTION:PUBLIC NOTICE AND MEETING AGENDA\nNational Heritage Area Management Plan Advisory Committee\nThursday\, January 11\, 2024\, 1:00-3:00 p.m. \nThe Point Restaurant\n120 Marina Drive\nRio Vista\, CA 94571 \nWebcast via Zoom\nAccess via computer or iOS/Android phone:\nMeeting URL: https://us06web.zoom.us/j/89078038990?pwd=bk5WgSgAXFZaFBXkXoMAyusohDNsNd.1\nPassword: 056438 \nAccess by telephone:\nPhone number: (404) 443 6397\nConference Code: 5220885 \nAgenda\n\nCall to Order – Bruce Blodgett\, NHA Advisory Committee Chair\nPublic Comment – An opportunity for members of the public to address the NHA Advisory Committee regarding items not on the Agenda\nNHA Advisory Committee Member Updates (10 mins.)\nStatus of Public Review Draft Management Plan – Nancy Morgan\, Point Heritage Development Consulting (PointHDC) and Blake Roberts\, Delta Protection Commission (20 mins.)\nStatus of Letters of Support and Commitment for Management Plan – Nancy Morgan\, PointHDC and Blake Roberts\, Delta Protection Commission (10 mins.)\nPublic Review Draft Management Plan Public Engagement Plan – Blake Roberts\, Delta Protection Commission (30 mins.)\nMember Announcements and Adjourn\n\nThe agenda items listed above may be considered in a different order at the Committee meeting\, subject to the discretion of the Chair. At the discretion of the Committee\, all items appearing on this agenda\, whether or not expressly listed for action\, may be deliberated upon and may be subject to action. The Committee welcomes and encourages participation in its meetings. The Committee limits testimony to not more than three minutes per person\, or more time at the discretion of the Chair. \nQuestions\, Comments\, and Requests\nIf you have any questions or have a request for reasonable modification or accommodation due to a disability\, please contact the Delta Protection Commission at dpc@delta.ca.gov or (916) 375-4800. \nComments submitted to submit@delta.ca.gov by noon on January 10\, 2023\, will be shared with Committee members prior to the meeting to the extent possible. Public comments on each agenda item will follow the order of: 1) emailed comments\, 2) those verbally requesting to make comments after notice offered by Chair during meeting. \nNational Heritage Area Advisory Committee Members\nChair Bruce Blodgett | Vice Chair Elizabeth Patterson | Michael Campbell | Lenora Clark | Paulette Hennum | Matt Holmes | Douglas Hsia | Carol Jensen | Janet Lake | Gia Moreno | David Stuart | Malissa Tayaba | Jan Vick | Dan Whaley | Jean Yokotobi \nEX OFFICIO MEMBERS: Karen Buhr\, Sacramento-San Joaquin Delta Conservancy | Leigh Ann Davis\, Contra Costa County Historical Society | Herbert “Lou” Griffin\, Wilton Rancheria | Jeff Henderson\, Delta Stewardship Council | Matthew Moore\, United Auburn Indian Community | Michael Moran\, East Bay Regional Park District | Trevor Rice\, National Park Service | John Takekawa\, Suisun Resource Conservation District. Other public agency representatives may also participate as ex-officio members.
URL:https://delta.ca.gov/calendar/delta-national-heritage-area-management-plan-advisory-committee-2024-01-11/
LOCATION:The Point Restaurant\, 120 Marina Drive\, Rio Vista\, CA\, 94571\, United States
CATEGORIES:Delta Protection Commission Meetings
END:VEVENT
END:VCALENDAR