BEGIN:VCALENDAR
VERSION:2.0
PRODID:-//Delta Protection Commission - ECPv6.15.20//NONSGML v1.0//EN
CALSCALE:GREGORIAN
METHOD:PUBLISH
X-WR-CALNAME:Delta Protection Commission
X-ORIGINAL-URL:https://delta.ca.gov
X-WR-CALDESC:Events for Delta Protection Commission
REFRESH-INTERVAL;VALUE=DURATION:PT1H
X-Robots-Tag:noindex
X-PUBLISHED-TTL:PT1H
BEGIN:VTIMEZONE
TZID:America/Los_Angeles
BEGIN:DAYLIGHT
TZOFFSETFROM:-0800
TZOFFSETTO:-0700
TZNAME:PDT
DTSTART:20230312T100000
END:DAYLIGHT
BEGIN:STANDARD
TZOFFSETFROM:-0700
TZOFFSETTO:-0800
TZNAME:PST
DTSTART:20231105T090000
END:STANDARD
BEGIN:DAYLIGHT
TZOFFSETFROM:-0800
TZOFFSETTO:-0700
TZNAME:PDT
DTSTART:20240310T100000
END:DAYLIGHT
BEGIN:STANDARD
TZOFFSETFROM:-0700
TZOFFSETTO:-0800
TZNAME:PST
DTSTART:20241103T090000
END:STANDARD
BEGIN:DAYLIGHT
TZOFFSETFROM:-0800
TZOFFSETTO:-0700
TZNAME:PDT
DTSTART:20250309T100000
END:DAYLIGHT
BEGIN:STANDARD
TZOFFSETFROM:-0700
TZOFFSETTO:-0800
TZNAME:PST
DTSTART:20251102T090000
END:STANDARD
END:VTIMEZONE
BEGIN:VEVENT
DTSTART;TZID=America/Los_Angeles:20240118T170000
DTEND;TZID=America/Los_Angeles:20240118T190000
DTSTAMP:20260423T040211
CREATED:20231117T170323Z
LAST-MODIFIED:20240311T194051Z
UID:218990-1705597200-1705604400@delta.ca.gov
SUMMARY:Delta Protection Commission Meeting
DESCRIPTION:Orden del Día de la Reunión Comisión de Protección del Delta (in Spanish) \nPUBLIC NOTICE AND MEETING AGENDA\nDelta Protection Commission\nClick here for the full agenda packet (PDF) \nClick here for the approved minutes of this meeting \nThursday\, Jan. 18\, 2024\, 5-7 p.m. (end time is approximate)\nUniversity Plaza Waterfront Hotel\, 110 West Fremont Street\, Stockton\, CA 95202 \nAgenda\n\nCall to order and Flag Salute\nWelcome & Roll Call\nPublic Comment – an opportunity for members of the public to address the Commission regarding items not on the agenda\n\nConsent Agenda\n\nApproval of Nov. 16\, 2023\, Meeting Minutes\n\nRegular Agenda\n\nReport on Delta Stewardship Council Activities – Chair Diane Burgis\nElect Chair and Vice Chair for 2024 – The Commission\nDelta as Place Presentation – Dante Nomellini\nReport on Delta Protection Advisory Committee (DPAC) Activities – Anna Swenson (DPAC Chair)\nExecutive Director’s Report – Bruce Blodgett\, Executive Director\nAppointments to Delta Protection Advisory Committee – Bruce Blodgett\, Executive Director\nApprove 2023 Annual Report – Bruce Blodgett\, Executive Director\nDelta Socioeconomic Indicators Update – Virginia Gardiner\, Program Manager\nNational Heritage Area Management Plan Update – Blake Roberts\, Program Manager\nCommissioner Comments/Announcements\nAdjourn\n\nThe agenda items listed above may be considered in a different order at the Commission meeting\, subject to the discretion of the Chair. At the discretion of the Commission\, all items appearing on this agenda\, whether expressly listed for action\, may be deliberated upon and may be subject to action. The Commission welcomes and encourages participation in its meetings. The Commission limits testimony to not more than three minutes per person\, or more time at the discretion of the Chair. \nQuestions\, Comments\, and Requests\nIf you have any questions or have a request for reasonable modification or accommodation due to a disability\, please contact the Delta Protection Commission at dpc@delta.ca.gov or (916) 375-4800. Attachments and additional information can be found on the Delta Protection Commission website: delta.ca.gov. \nComments submitted to submit@delta.ca.gov by noon on Wednesday\, January 17 2024\, will be shared with Commissioners prior to the meeting to the extent possible. Public comments on each agenda item will follow the order of: 1) emailed comments\, 2) those verbally requesting to make comments after notice offered by Chair during meeting. \nDelta Protection Commission Members\nDiane Burgis\, Chair\, Contra Costa County Board of Supervisors | John Vasquez\, Vice Chair\, Solano County Board of Supervisors | Oscar Villegas\, Yolo County Board of Supervisors | Patrick Hume\, Sacramento County Board of Supervisors | Steve Ding\, San Joaquin County Board of Supervisors | Ron Kott\, Cities of Contra Costa and Solano counties | Paul Steele\, Cities of Sacramento and Yolo Counties | Alan Nakanishi\, Cities of San Joaquin County | Jim Paroli\, Central Delta Reclamation Districts | Tom Slater\, North Delta Reclamation Districts | Nick Mussi\, South Delta Reclamation Districts | Toks Omishakin\, CA State Transportation Agency | Karen Ross\, CA Department of Food and Agriculture | Wade Crowfoot\, CA Natural Resources Agency | Jennifer Lucchesi\, CA State Lands Commission \nEX OFFICIO MEMBERS: Carlos Villapudua\, California State Assembly | Susan Talamantes Eggman\, California State Senate
URL:https://delta.ca.gov/calendar/dpc-2024-01-18/
LOCATION:University Plaza Waterfront Hotel\, 110 West Fremont Street\, Stockton\, CA\, 95202\, United States
CATEGORIES:Delta Protection Commission Meetings
ORGANIZER;CN="Delta Protection Commission":MAILTO:dpc@delta.ca.gov
END:VEVENT
END:VCALENDAR