BEGIN:VCALENDAR
VERSION:2.0
PRODID:-//Delta Protection Commission - ECPv6.15.20//NONSGML v1.0//EN
CALSCALE:GREGORIAN
METHOD:PUBLISH
X-ORIGINAL-URL:https://delta.ca.gov
X-WR-CALDESC:Events for Delta Protection Commission
REFRESH-INTERVAL;VALUE=DURATION:PT1H
X-Robots-Tag:noindex
X-PUBLISHED-TTL:PT1H
BEGIN:VTIMEZONE
TZID:America/Los_Angeles
BEGIN:DAYLIGHT
TZOFFSETFROM:-0800
TZOFFSETTO:-0700
TZNAME:PDT
DTSTART:20230312T100000
END:DAYLIGHT
BEGIN:STANDARD
TZOFFSETFROM:-0700
TZOFFSETTO:-0800
TZNAME:PST
DTSTART:20231105T090000
END:STANDARD
BEGIN:DAYLIGHT
TZOFFSETFROM:-0800
TZOFFSETTO:-0700
TZNAME:PDT
DTSTART:20240310T100000
END:DAYLIGHT
BEGIN:STANDARD
TZOFFSETFROM:-0700
TZOFFSETTO:-0800
TZNAME:PST
DTSTART:20241103T090000
END:STANDARD
BEGIN:DAYLIGHT
TZOFFSETFROM:-0800
TZOFFSETTO:-0700
TZNAME:PDT
DTSTART:20250309T100000
END:DAYLIGHT
BEGIN:STANDARD
TZOFFSETFROM:-0700
TZOFFSETTO:-0800
TZNAME:PST
DTSTART:20251102T090000
END:STANDARD
END:VTIMEZONE
BEGIN:VEVENT
DTSTART;TZID=America/Los_Angeles:20240806T173000
DTEND;TZID=America/Los_Angeles:20240806T193000
DTSTAMP:20260423T151210
CREATED:20240606T171420Z
LAST-MODIFIED:20240726T171022Z
UID:219666-1722965400-1722972600@delta.ca.gov
SUMMARY:Delta Protection Advisory Committee
DESCRIPTION:The Delta Protection Advisory Committee (DPAC) provides recommendations to the Delta Protection Commission on diverse interests within the Delta\, including the Delta’s ecosystem\, water supply\, socioeconomic sustainability\, recreation\, agriculture\, flood control\, environment\, water resources\, utility infrastructure\, and other Delta issues. This fifteen-member committee is appointed by the Commission and meets regularly; members serve three-year terms and may be re-appointed. Meetings are open to the public and everyone’s input is welcome. The Committee was created by the Delta Protection Act\, Public Resources Code Section 29753(a). This is its Charter (PDF). \nPUBLIC NOTICE AND MEETING AGENDA\nDelta Protection Advisory Committee\nTuesday\, August 6\, 2024\, 5:30 p.m.\nTony’s Place Restaurant\, 14157 Market Street\, Walnut Grove\, CA 95690 \nComplete agenda packet (PDF) \nAgenda\n\nCall to Order/Flag Salute – Anna Swenson\, DPAC Chair\nWelcome and Roll Call\nPublic Comment – An opportunity for members of the public to address the Committee regarding items not on the agenda\nApproval of June 4\, 2024\, Meeting Minutes – The Committee\nUpdate on Delta Protection Commission activities – Bruce Blodgett\nAnnouncement on NHA Advisory Committee application period – Blake Roberts\nDiscussion of McDonald Island Hydrogen Storage project – Mike Aviña\nCoastal Cleanup Day – Virginia Gardiner\nPossible DPAC memorial seat – Anna Swenson\nMember Announcements and Next Meeting\nAdjourn\n\nThe agenda items listed above may be considered in a different order at the Committee meeting\, subject to the discretion of the Chair. At the discretion of the Committee\, all items appearing on this agenda\, whether or not expressly listed for action\, may be deliberated upon and may be subject to action. The Committee welcomes and encourages participation in its meetings. The Committee limits testimony to not more than three minutes per person\, or more time at the discretion of the Chair. \nQuestions\, Comments\, and Requests\nIf you have any questions or have a request for reasonable modification or accommodation due to a disability\, please contact the Delta Protection Commission at dpc@delta.ca.gov or (916) 375-4800. \nComments submitted to submit@delta.ca.gov by noon on August 5\, 2024\, will be shared with Commissioners prior to the meeting to the extent possible. Public comments on each agenda item will follow the order of: 1) emailed comments\, 2) those verbally requesting to make comments after notice offered by Chair during meeting. \nDelta Protection Advisory Committee Members\nChair Anna Swenson and Katherine Wiley (Delta general public) | Vice-Chair Russ Ryan (Delta water exporter) | Emily Pappalardo and Arron Pellarin (Delta business) | Craig Watanabe and Gary Mello (Delta agriculture) | Todd Bruce and Morris Lum (Delta recreation) | Edward Hard and Erin Chappell (State agency) | Chris Elias (Delta flood entity) | Mariah Looney (Delta organization) | Jim Cox (Delta habitat/conservation non-governmental entity) | Sam Garcia (Delta utility/related infrastructure) | Douglas Hsia (Delta Cultural Preservation) | Steven Hutchason (Delta Tribe). \nEX OFFICIO MEMBERS: Representatives of the California Department of Water Resources\, U.S. Bureau of Reclamation\, U.S. Fish and Wildlife Service\, Delta Stewardship Council\, and Sacramento-San Joaquin Delta Conservancy.
URL:https://delta.ca.gov/calendar/delta-protection-advisory-committee-2024-08-06/
LOCATION:Tony’s Place\, 14157 Market St.\, Walnut Grove\, CA\, 95690\, United States
CATEGORIES:Delta Protection Commission Meetings
END:VEVENT
END:VCALENDAR