BEGIN:VCALENDAR
VERSION:2.0
PRODID:-//Delta Protection Commission - ECPv6.15.20//NONSGML v1.0//EN
CALSCALE:GREGORIAN
METHOD:PUBLISH
X-ORIGINAL-URL:https://delta.ca.gov
X-WR-CALDESC:Events for Delta Protection Commission
REFRESH-INTERVAL;VALUE=DURATION:PT1H
X-Robots-Tag:noindex
X-PUBLISHED-TTL:PT1H
BEGIN:VTIMEZONE
TZID:America/Los_Angeles
BEGIN:DAYLIGHT
TZOFFSETFROM:-0800
TZOFFSETTO:-0700
TZNAME:PDT
DTSTART:20230312T100000
END:DAYLIGHT
BEGIN:STANDARD
TZOFFSETFROM:-0700
TZOFFSETTO:-0800
TZNAME:PST
DTSTART:20231105T090000
END:STANDARD
BEGIN:DAYLIGHT
TZOFFSETFROM:-0800
TZOFFSETTO:-0700
TZNAME:PDT
DTSTART:20240310T100000
END:DAYLIGHT
BEGIN:STANDARD
TZOFFSETFROM:-0700
TZOFFSETTO:-0800
TZNAME:PST
DTSTART:20241103T090000
END:STANDARD
BEGIN:DAYLIGHT
TZOFFSETFROM:-0800
TZOFFSETTO:-0700
TZNAME:PDT
DTSTART:20250309T100000
END:DAYLIGHT
BEGIN:STANDARD
TZOFFSETFROM:-0700
TZOFFSETTO:-0800
TZNAME:PST
DTSTART:20251102T090000
END:STANDARD
END:VTIMEZONE
BEGIN:VEVENT
DTSTART;TZID=America/Los_Angeles:20240919T170000
DTEND;TZID=America/Los_Angeles:20240919T190000
DTSTAMP:20260423T165149
CREATED:20231117T170558Z
LAST-MODIFIED:20240919T204340Z
UID:218998-1726765200-1726772400@delta.ca.gov
SUMMARY:Delta Protection Commission Meeting
DESCRIPTION:PUBLIC NOTICE AND MEETING AGENDA\nDelta Protection Commission\nThursday\, September 19\, 2024\, 5-7 p.m. (end time is approximate)\nWest Sacramento Community Center\, 1075 West Capitol Ave\, West Sacramento\, CA  95691 \nAgenda packet with staff reports (PDF) \nUpdated staff report for Agenda Item 11 (PDF) \nAviso al Público y Orden del Día de la Reunión Comisión de Protección del Delta \nAgenda\n\nCall to order and Flag Salute\nWelcome & Roll Call\nPublic Comment – an opportunity for members of the public to address the Commission regarding items not on the agenda\n\nClosed Session Agenda\n\nThe Delta Protection Commission will meet in closed session to consider the evaluation of performance of one or more of its employees. This closed session is authorized by Government Code section 11126\, subdivision (a)(1).\n\nConsent Agenda\n\nApproval of Draft July 18\, 2024\, Meeting Minutes\n\nRegular Agenda\n\nReport on Delta Stewardship Council Activities – Chair Diane Burgis\nReport on Delta Protection Advisory Committee (DPAC) Activities – Anna Swenson (DPAC Chair)\nDelta Protection Advisory Committee Delta Waterways Cleanup project – Anna Swenson (DPAC Chair)\nDelta Protection Advisory Committee Gerry Goodie Memorial Seat – Anna Swenson (DPAC Chair)\nExecutive Director’s Report – Bruce Blodgett\, Executive Director\nNHA Advisory Committee Appointments – Blake Roberts\nDelta as Place Presentation: Delta Agriculture – Tom Slater\, Board of Directors\, North Delta Water Agency\nCommissioner Comments/Announcements\nAdjourn\n\nThe agenda items listed above may be considered in a different order at the Commission meeting\, subject to the discretion of the Chair. At the discretion of the Commission\, all items appearing on this agenda\, whether or not expressly listed for action\, may be deliberated upon and may be subject to action. The Commission welcomes and encourages participation in its meetings. The Commission limits testimony to not more than three minutes per person\, or more time at the discretion of the Chair. \nQuestions\, Comments\, and Requests\nIf you have any questions or have a request for reasonable modification or accommodation due to a disability\, please contact the Delta Protection Commission at dpc@delta.ca.gov or (916) 375-4800. Attachments and additional information can be found on the Delta Protection Commission website: delta.ca.gov. \nComments submitted to submit@delta.ca.gov by noon on September 18\, 2024\, will be shared with Commissioners prior to the meeting to the extent possible. Public comments on each agenda item will follow the order of: 1) emailed comments\, 2) those verbally requesting to make comments after notice offered by Chair during meeting. \nDelta Protection Commission Members\nDiane Burgis\, Chair\, Contra Costa County Board of Supervisors | John Vasquez\, Vice Chair\, Solano County Board of Supervisors | Oscar Villegas\, Yolo County Board of Supervisors | Patrick Hume\, Sacramento County Board of Supervisors | Tom Patti\, San Joaquin County Board of Supervisors | Anissa Williams\, Cities of Contra Costa and Solano counties | Paul Steele\, Cities of Sacramento and Yolo Counties | Alan Nakanishi\, Cities of San Joaquin County | Jim Paroli\, Central Delta Reclamation Districts | Tom Slater\, North Delta Reclamation Districts | TBD\, South Delta Reclamation Districts | Toks Omishakin\, CA State Transportation Agency | Karen Ross\, CA Department of Food and Agriculture | Wade Crowfoot\, CA Natural Resources Agency | Jennifer Lucchesi\, CA State Lands Commission \nEX OFFICIO MEMBERS: Carlos Villapudua\, California State Assembly | Susan Talamantes Eggman\, California State Senate
URL:https://delta.ca.gov/calendar/dpc-2024-09-19/
LOCATION:West Sacramento Community Center\, 1075 West Capitol Avenue\, West Sacramento\, CA\, 95691\, United States
CATEGORIES:Delta Protection Commission Meetings
END:VEVENT
END:VCALENDAR