BEGIN:VCALENDAR
VERSION:2.0
PRODID:-//Delta Protection Commission - ECPv6.15.20//NONSGML v1.0//EN
CALSCALE:GREGORIAN
METHOD:PUBLISH
X-WR-CALNAME:Delta Protection Commission
X-ORIGINAL-URL:https://delta.ca.gov
X-WR-CALDESC:Events for Delta Protection Commission
REFRESH-INTERVAL;VALUE=DURATION:PT1H
X-Robots-Tag:noindex
X-PUBLISHED-TTL:PT1H
BEGIN:VTIMEZONE
TZID:America/Los_Angeles
BEGIN:DAYLIGHT
TZOFFSETFROM:-0800
TZOFFSETTO:-0700
TZNAME:PDT
DTSTART:20230312T100000
END:DAYLIGHT
BEGIN:STANDARD
TZOFFSETFROM:-0700
TZOFFSETTO:-0800
TZNAME:PST
DTSTART:20231105T090000
END:STANDARD
BEGIN:DAYLIGHT
TZOFFSETFROM:-0800
TZOFFSETTO:-0700
TZNAME:PDT
DTSTART:20240310T100000
END:DAYLIGHT
BEGIN:STANDARD
TZOFFSETFROM:-0700
TZOFFSETTO:-0800
TZNAME:PST
DTSTART:20241103T090000
END:STANDARD
BEGIN:DAYLIGHT
TZOFFSETFROM:-0800
TZOFFSETTO:-0700
TZNAME:PDT
DTSTART:20250309T100000
END:DAYLIGHT
BEGIN:STANDARD
TZOFFSETFROM:-0700
TZOFFSETTO:-0800
TZNAME:PST
DTSTART:20251102T090000
END:STANDARD
END:VTIMEZONE
BEGIN:VEVENT
DTSTART;TZID=America/Los_Angeles:20241115T083000
DTEND;TZID=America/Los_Angeles:20241115T163000
DTSTAMP:20260423T203029
CREATED:20240701T225500Z
LAST-MODIFIED:20241113T221654Z
UID:219837-1731659400-1731688200@delta.ca.gov
SUMMARY:Delta Heritage Forum: Creating Community Through Heritage
DESCRIPTION:The Delta Heritage Forum is a free\, full-day event each year that celebrates Delta stories\, nurtures collaboration\, and inspires new thinking and initiatives in the Delta heritage community. This year’s theme is Creating Community through Heritage. \nRegistration\nRegister by Nov. 1 to ensure we have an accurate head count for food – scroll down to register. Registration is free. \nForum Format\n\nThree 45- to 60-minute panel discussions\nFour storytelling sessions\nLightning Talks: a series of short presentations\nFood and drink will be provided by our sponsors\n\nTentative Schedule\nThe following schedule is subject to adjustments prior to the event. \n8:30 a.m.: Doors open – networking – light breakfast   \n9 a.m.: Welcome: Blake Roberts\, Sacramento-San Joaquin Delta National Heritage Area \n9:15-9:25 a.m.: Storyteller: Dan Hanel\, Author \n9:25-10:25 a.m.: Leveraging Relationships with Partners to Get More Done \n\nModerator: Leigh Ann Davis\, Contra Costa County Historical Society\nRina Dimare\, Clarksburg Winery Collective\nSean McCauley\, Harvest Time Brentwood\nTerry Selk\, Visit Yolo\n\n10:25-10:40 a.m. Bathroom/snack/museum browsing break \n10:40-10:50 a.m.: Storyteller: Bruce Towne\, Writer \n10:50 a.m.: Getting Youth Involved In\, and Excited About\, Heritage \n\nModerator: Alice LLano\, Delta Leadership Program Alumna\nWyatt Moore\, Big Break Regional Shoreline\nWendy Solis\, John Muir National Historic Site\n\n11:35 a.m.-12:35 p.m.: Lunch – food\, free socializing\, scavenger hunt\, graffiti board \n12:35-1 p.m.: Storyteller: Diana Almendariz\, Cultural Practitioner of Maidu/Wintun\, Hupa/Yurok Traditions\, Heritage and Experiences \n1:05-2:05 p.m.: Using Public Art to Cultivate a Sense of Place \n\nModerator: Neema Hekmat\, Benicia Arts and Culture Commission\nTom Surh\, RioVision\nAnna Szabados\, City of Brentwood\nYoshio Taylor\, Artist\n\n2:05 p.m.: Bathroom/snack/museum browsing break \n2:20 p.m.: Storyteller: Delta Mello\, Sacramento History Museum \n2:30 p.m.: Lightning Talks \n\nLeigh Ann Davis: County Rancho Project\nBob Benedetti: Introducing Fine Arts of the Delta\nCarol Jensen: Prohibition and Bootlegging in the Delta\n\n3:15 p.m. Scavenger Hunt Results \n3:20-4:20 p.m.: Happy Hour   \nQuestions?\nContact DPC@delta.ca.gov.\n \nRegister Now
URL:https://delta.ca.gov/calendar/delta-heritage-forum-2024/
LOCATION:The Antioch Historical Museum\, 1500 W 4th St\, Antioch\, CA\, 94509
ATTACH;FMTTYPE=image/png:https://delta.ca.gov/wp-content/uploads/2024/07/16-9.png
END:VEVENT
END:VCALENDAR