BEGIN:VCALENDAR
VERSION:2.0
PRODID:-//Delta Protection Commission - ECPv6.15.20//NONSGML v1.0//EN
CALSCALE:GREGORIAN
METHOD:PUBLISH
X-ORIGINAL-URL:https://delta.ca.gov
X-WR-CALDESC:Events for Delta Protection Commission
REFRESH-INTERVAL;VALUE=DURATION:PT1H
X-Robots-Tag:noindex
X-PUBLISHED-TTL:PT1H
BEGIN:VTIMEZONE
TZID:America/Los_Angeles
BEGIN:DAYLIGHT
TZOFFSETFROM:-0800
TZOFFSETTO:-0700
TZNAME:PDT
DTSTART:20220313T100000
END:DAYLIGHT
BEGIN:STANDARD
TZOFFSETFROM:-0700
TZOFFSETTO:-0800
TZNAME:PST
DTSTART:20221106T090000
END:STANDARD
BEGIN:DAYLIGHT
TZOFFSETFROM:-0800
TZOFFSETTO:-0700
TZNAME:PDT
DTSTART:20230312T100000
END:DAYLIGHT
BEGIN:STANDARD
TZOFFSETFROM:-0700
TZOFFSETTO:-0800
TZNAME:PST
DTSTART:20231105T090000
END:STANDARD
BEGIN:DAYLIGHT
TZOFFSETFROM:-0800
TZOFFSETTO:-0700
TZNAME:PDT
DTSTART:20240310T100000
END:DAYLIGHT
BEGIN:STANDARD
TZOFFSETFROM:-0700
TZOFFSETTO:-0800
TZNAME:PST
DTSTART:20241103T090000
END:STANDARD
END:VTIMEZONE
BEGIN:VEVENT
DTSTART;TZID=America/Los_Angeles:20230119T170000
DTEND;TZID=America/Los_Angeles:20230119T193000
DTSTAMP:20260424T081210
CREATED:20221123T233803Z
LAST-MODIFIED:20231109T213453Z
UID:217969-1674147600-1674156600@delta.ca.gov
SUMMARY:Delta Protection Commission Meeting
DESCRIPTION:Administrative Agenda\n1. Call to order and Flag Salute \n2. Welcome & Roll Call \n3. Public Comment – an opportunity for members of the public to address the Commission regarding items not on the Agenda \n4. Report on Delta Stewardship Council activities – Chair Diane Burgis \n5. Commissioner comments/announcements \n6. Special recognition – Chair Diane Burgis \nConsent Agenda\n7. Consider approval of November 17\, 2022 meeting minutes (PDF) \n8. Consider revision to 2023 meeting schedule \nItem 8. Amended 2023 Meeting Schedule (PDF) \n9. Appointment to NHA Advisory Committee \nItem 9. Staff Report (PDF) \nRegular Agenda\n10. Receive Executive Director’s report – Bruce Blodgett\, Executive Director \nItem 10. Executive Director’s Report \nItem 10. Letter to U.S. Army Corps of Engineers Requesting Time Extension and In-Person Meetings for the Delta Conveyance Project Project Draft Environmental Impact Statement Public Comment Period (PDF) \nItem 10. Letter to the Delta Stewardship Council on the Delta Levee Investment Strategy Rulemaking Process Amendments (PDF) \n11. Approve 2022 Annual Report – Bruce Blodgett\, Executive Director \nItem 11. Staff Report (PDF) \nItem 11. 2023 Annual Report (PDF) \n12. Delta as Place Reports – DWR (invited) and Gil Cosio\, River Delta Consulting \nVerbal report out\, no staff report \n13. Receive Delta Protection Advisory Committee (DPAC) report – Mariah Looney (DPAC Chair) \nVerbal report out\, no staff report \n14. Discuss Section 106 Consultation on the Delta Conveyance Project – Virginia Gardiner\, Program Manager \nItem 14. Staff Report \n15. Discuss approach for comments on Delta Conveyance Project Draft Environmental Impact Statement – Virginia Gardiner\, Program Manager \nItem 15. Staff Report (PDF) \n16. Adjourn \n 
URL:https://delta.ca.gov/calendar/delta-protection-commission-meeting-2/
LOCATION:West Sacramento Community Center\, 1075 West Capitol Avenue\, West Sacramento\, CA\, 95691\, United States
CATEGORIES:Delta Protection Commission Meetings
END:VEVENT
END:VCALENDAR