BEGIN:VCALENDAR
VERSION:2.0
PRODID:-//Delta Protection Commission - ECPv6.15.20//NONSGML v1.0//EN
CALSCALE:GREGORIAN
METHOD:PUBLISH
X-WR-CALNAME:Delta Protection Commission
X-ORIGINAL-URL:https://delta.ca.gov
X-WR-CALDESC:Events for Delta Protection Commission
REFRESH-INTERVAL;VALUE=DURATION:PT1H
X-Robots-Tag:noindex
X-PUBLISHED-TTL:PT1H
BEGIN:VTIMEZONE
TZID:America/Los_Angeles
BEGIN:DAYLIGHT
TZOFFSETFROM:-0800
TZOFFSETTO:-0700
TZNAME:PDT
DTSTART:20240310T100000
END:DAYLIGHT
BEGIN:STANDARD
TZOFFSETFROM:-0700
TZOFFSETTO:-0800
TZNAME:PST
DTSTART:20241103T090000
END:STANDARD
BEGIN:DAYLIGHT
TZOFFSETFROM:-0800
TZOFFSETTO:-0700
TZNAME:PDT
DTSTART:20250309T100000
END:DAYLIGHT
BEGIN:STANDARD
TZOFFSETFROM:-0700
TZOFFSETTO:-0800
TZNAME:PST
DTSTART:20251102T090000
END:STANDARD
BEGIN:DAYLIGHT
TZOFFSETFROM:-0800
TZOFFSETTO:-0700
TZNAME:PDT
DTSTART:20260308T100000
END:DAYLIGHT
BEGIN:STANDARD
TZOFFSETFROM:-0700
TZOFFSETTO:-0800
TZNAME:PST
DTSTART:20261101T090000
END:STANDARD
END:VTIMEZONE
BEGIN:VEVENT
DTSTART;TZID=America/Los_Angeles:20250603T173000
DTEND;TZID=America/Los_Angeles:20250603T193000
DTSTAMP:20260420T092111
CREATED:20241204T213655Z
LAST-MODIFIED:20250523T235619Z
UID:220587-1748971800-1748979000@delta.ca.gov
SUMMARY:Delta Protection Advisory Committee
DESCRIPTION:PUBLIC NOTICE AND MEETING AGENDA\nDelta Protection Advisory Committee\nTuesday\, June 3\, 2025\, 5:30 p.m.\nVeterans Memorial Hall\n610 Francis Way\, Rio Vista\, CA 94571 \nAgenda packet (PDF) (includes staff reports and attachments) \nAgenda\n\nCall to Order/Flag Salute – Anna Swenson\, DPAC Chair\nWelcome and Roll Call\nWelcome New Members Jerred Dixon and Jeffrey Twitchell\nPublic Comment – An opportunity for members of the public to address the Committee regarding items not on the agenda.\nApproval of April 1\, 2025\, Meeting Minutes\nElection of Chair and Vice Chair 2025/2026 – The Committee\nUpdated DPAC Charter and DPC Six-month Priorities– Dan Ray\nReport on Impacts of Habitat\, Flood Control\, and Ecosystem Projects on Agricultural Land – Dan Ray\nGolden Mussel Presentation – Cesar Blanco\, USFWS Aquatic Invasive Species Coordinator\, Pacific Southwest Regional Office\nDelta Waterways Cleanup – The Committee\nMember Announcements and Next Meeting\nAdjourn\n\nThe agenda items listed above may be considered in a different order at the Committee meeting\, subject to the discretion of the Chair. At the discretion of the Committee\, all items appearing on this agenda\, whether or not expressly listed for action\, may be deliberated upon and may be subject to action. The Committee welcomes and encourages participation in its meetings. The Committee limits testimony to not more than three minutes per person\, or more time at the discretion of the Chair. \nQuestions\, Comments\, and Requests\nIf you have any questions or have a request for reasonable modification or accommodation due to a disability\, please contact the Delta Protection Commission at dpc@delta.ca.gov or (916) 375-4800. \nComments submitted to submit@delta.ca.gov by noon on June 2\, 2025\, will be shared with Commissioners prior to the meeting to the extent possible. Public comments on each agenda item will follow the order of: 1) emailed comments\, 2) those verbally requesting to make comments after notice offered by Chair during meeting. \nDelta Protection Advisory Committee Members\nChair Anna Swenson and Katherine Wiley (Delta General Public Gerry Goodie Memorial Seat) | Vice Chair Russ Ryan (Delta Water Exporter) |  Arron Pellarin and Emily Pappalardo (Delta Business) | Craig Watanabe (Delta Agriculture) | Todd Bruce and Morris Lum (Delta Recreation) | Edward Hard and Erin Chappell (State Agency) | Jeffrey Twitchell (Delta Flood Entity) | Mariah Looney (Delta Organization) | Jerred Dixon (Delta Conservation/Habitat Non-governmental Organization) | Sam Garcia (Delta Utility/Infrastructure) | Douglas Hsia (Delta Cultural Preservation) | Steven Hutchason (Delta Tribe). \nEX OFFICIO MEMBERS: Representatives of the California Department of Water Resources\, U.S. Bureau of Reclamation\, U.S. Fish and Wildlife Service\, Delta Stewardship Council\, and Sacramento-San Joaquin Delta Conservancy.
URL:https://delta.ca.gov/calendar/delta-protection-advisory-committee-2025-06-03/
LOCATION:Rio Vista Veterans Memorial Building\, 610 St Francis Way\, Rio Vista\, CA\, 94571\, United States
CATEGORIES:Delta Protection Commission Meetings
END:VEVENT
BEGIN:VEVENT
DTSTART;TZID=America/Los_Angeles:20250625T130000
DTEND;TZID=America/Los_Angeles:20250625T150000
DTSTAMP:20260420T092111
CREATED:20241206T235859Z
LAST-MODIFIED:20250612T233113Z
UID:220603-1750856400-1750863600@delta.ca.gov
SUMMARY:National Heritage Area Advisory Committee
DESCRIPTION:PUBLIC NOTICE AND MEETING AGENDA\nNational Heritage Area Advisory Committee\nWednesday\, June 25\, 2025\, 1 p.m.\nSolano Transportation Authority Board Room\n423 Main Street\, Suisun City\, CA 94585 \nMeeting packet – agenda and staff reports in one PDF \nAgenda\n\nCall to Order – Dan Ray\, NHA Advisory Committee Chair\nRoll Call\nPublic Comment – An opportunity for members of the public to address the NHA Advisory Committee regarding items not on the agenda\nApproval of April 23\, 2025\, Meeting Minutes\nUpdate on NHA Activities – Blake Roberts\nFirst Congressional Church Bell Project – Dwayne Eubanks\, Project Lead\nReport on Delta 250 Ad Hoc Task Group – Task Group\nReport on Water Tour Ad Hoc Task Group – Task Group\nPartnership and Passport Program Update and Provide Direction on Passport Site Criteria – Blake Roberts\nFederal Funding and Work Plan– Blake Roberts\nConsider New Meeting Date for August – Dan Ray\nMember Announcements and Adjourn\n\nThe agenda items listed above may be considered in a different order at the Committee meeting\, subject to the discretion of the Chair. At the discretion of the Committee\, all items appearing on this agenda\, whether or not expressly listed for action\, may be deliberated upon and may be subject to action. The Committee welcomes and encourages participation in its meetings. The Committee limits testimony to not more than three minutes per person\, or more time at the discretion of the Chair. \nQuestions\, Comments\, and Requests\nIf you have any questions or have a request for reasonable modification or accommodation due to a disability\, please contact the Delta Protection Commission at dpc@delta.ca.gov or (916) 375-4800. \nComments submitted to submit@delta.ca.gov by noon on June 24\, 2025\, will be shared with Committee members prior to the meeting to the extent possible. Public comments on each agenda item will follow the order of: 1) emailed comments\, 2) those verbally requesting to make comments after notice offered by Chair during meeting. \nNational Heritage Area Advisory Committee Members\nChair Dan Ray | Vice Chair Elizabeth Patterson | Diane Burgis\, Commission Chair | Michael Campbell | Colin Coffey | Lisa Craig | Dwayne Eubanks | Morris Lum | Carol Jensen | Don Nottoli | David Stuart | Oscar Villegas\, Commissioner | Dan Whaley | Stuart Walthall | Katie Wiley \nEX OFFICIO MEMBERS: Amanda Blosser California State Parks | Chris Lim Contra Costa Resource Conservation District | Karen Buhr\, Sacramento-San Joaquin Delta Conservancy | Jeff Henderson\, Delta Stewardship Council | Mike Moran\, East Bay Regional Park District | Trevor Rice\, National Park Service | John Takekawa\, Suisun Resource Conservation District. Other public agency representatives may also participate as ex-officio members. \nALTERNATE MEMBERS: \nPaulette Hennum | Douglas Hsia | Janet Lake | Gia Moreno
URL:https://delta.ca.gov/calendar/national-heritage-area-advisory-committee-2025-06-25/
LOCATION:Solano Transportation Authority\, 423 Main Street\, Suisun City\, 94585\, United States
CATEGORIES:Delta Protection Commission Meetings
END:VEVENT
END:VCALENDAR