BEGIN:VCALENDAR
VERSION:2.0
PRODID:-//Delta Protection Commission - ECPv6.15.20//NONSGML v1.0//EN
CALSCALE:GREGORIAN
METHOD:PUBLISH
X-WR-CALNAME:Delta Protection Commission
X-ORIGINAL-URL:https://delta.ca.gov
X-WR-CALDESC:Events for Delta Protection Commission
REFRESH-INTERVAL;VALUE=DURATION:PT1H
X-Robots-Tag:noindex
X-PUBLISHED-TTL:PT1H
BEGIN:VTIMEZONE
TZID:America/Los_Angeles
BEGIN:DAYLIGHT
TZOFFSETFROM:-0800
TZOFFSETTO:-0700
TZNAME:PDT
DTSTART:20240310T100000
END:DAYLIGHT
BEGIN:STANDARD
TZOFFSETFROM:-0700
TZOFFSETTO:-0800
TZNAME:PST
DTSTART:20241103T090000
END:STANDARD
BEGIN:DAYLIGHT
TZOFFSETFROM:-0800
TZOFFSETTO:-0700
TZNAME:PDT
DTSTART:20250309T100000
END:DAYLIGHT
BEGIN:STANDARD
TZOFFSETFROM:-0700
TZOFFSETTO:-0800
TZNAME:PST
DTSTART:20251102T090000
END:STANDARD
BEGIN:DAYLIGHT
TZOFFSETFROM:-0800
TZOFFSETTO:-0700
TZNAME:PDT
DTSTART:20260308T100000
END:DAYLIGHT
BEGIN:STANDARD
TZOFFSETFROM:-0700
TZOFFSETTO:-0800
TZNAME:PST
DTSTART:20261101T090000
END:STANDARD
END:VTIMEZONE
BEGIN:VEVENT
DTSTART;TZID=America/Los_Angeles:20251007T173000
DTEND;TZID=America/Los_Angeles:20251007T193000
DTSTAMP:20260420T023422
CREATED:20241204T213756Z
LAST-MODIFIED:20250926T163456Z
UID:220591-1759858200-1759865400@delta.ca.gov
SUMMARY:CANCELED - Delta Protection Advisory Committee
DESCRIPTION:This meeting has been canceled. \nThe Delta Protection Advisory Committee (DPAC) provides recommendations to the Delta Protection Commission on diverse interests within the Delta\, including the Delta’s ecosystem\, water supply\, socioeconomic sustainability\, recreation\, agriculture\, flood control\, environment\, water resources\, utility infrastructure\, and other Delta issues. This fifteen-member committee is appointed by the Commission and meets regularly; members serve three-year terms and may be re-appointed. Meetings are open to the public and everyone’s input is welcome. The Committee was created by the Delta Protection Act\, Public Resources Code Section 29753(a). This is its Charter (PDF). \nDelta Protection Advisory Committee Members\nChair Anna Swenson and Katherine Wiley (Delta General Public Gerry Goodie Memorial Seat) | Vice Chair Russ Ryan (Delta Water Exporter) | Arron Pellarin and Emily Pappalardo (Delta Business) | Craig Watanabe and Jeff Iniguez (Delta Agriculture) | Todd Bruce and Morris Lum (Delta Recreation) | Edward Hard and Erin Chappell (State Agency) | Jeffrey Twitchell (Delta Flood Entity) | Mariah Looney (Delta Organization) | Jerred Dixon (Delta Conservation/Habitat Non-governmental Organization) | Sam Garcia (Delta Utility/Infrastructure) | Douglas Hsia (Delta Cultural Preservation) | Steven Hutchason (Delta Tribe). \nEX OFFICIO MEMBERS: Representatives of the California Department of Water Resources\, U.S. Bureau of Reclamation\, U.S. Fish and Wildlife Service\, Delta Stewardship Council\, and Sacramento-San Joaquin Delta Conservancy.
URL:https://delta.ca.gov/calendar/delta-protection-advisory-committee-2025-10-07/
CATEGORIES:Delta Protection Commission Meetings
END:VEVENT
BEGIN:VEVENT
DTSTART;TZID=America/Los_Angeles:20251029T130000
DTEND;TZID=America/Los_Angeles:20251029T150000
DTSTAMP:20260420T023422
CREATED:20241207T000004Z
LAST-MODIFIED:20251017T192322Z
UID:220608-1761742800-1761750000@delta.ca.gov
SUMMARY:National Heritage Area Advisory Committee
DESCRIPTION:PUBLIC NOTICE AND MEETING AGENDA\nNational Heritage Area Advisory Committee\nWednesday\, October 29\, 2025\, 1 p.m.\nBig Break Visitor Center\n69 Big Break Road Oakley\, CA \nMeeting packet – agenda and staff reports combined (PDF) \nAgenda\n\nCall to Order – Amanda Bohl\, NHA Advisory Committee Chair\nWelcome and Roll Call — Introductions with a Special Welcome to the New Executive Director\nPublic Comment – An opportunity for members of the public to address the NHA Advisory Committee regarding items not on the agenda\nApproval of August 20\, 2025\, Meeting Minutes\nUpdate on NHA Activities – Blake Roberts and Kira O’Donnell\nTourism Branding and Marketing Plan – Maggie Giordanengo\, Meghan Leno\, and Ash Rodseth of Honey Agency\, Inc.\nMembership of Tourism and Marketing Plan-Related Advisory Task Groups – Amanda Bohl\nRecognition of Past Committee Members – Blake Roberts\nReport on Delta 250 Ad Hoc Task Group – Task Group\nReport on Water Tour Ad Hoc Task Group – Task Group\nPartnership and Passport Program Update – Blake Roberts\nMember Announcements and Adjourn\n\nThe agenda items listed above may be considered in a different order at the Committee meeting\, subject to the discretion of the Chair. At the discretion of the Committee\, all items appearing on this agenda\, whether or not expressly listed for action\, may be deliberated upon and may be subject to action. The Committee welcomes and encourages participation in its meetings. The Committee limits testimony to not more than three minutes per person\, or more time at the discretion of the Chair. \nQuestions\, Comments\, and Requests\nIf you have any questions or have a request for reasonable modification or accommodation due to a disability\, please contact the Delta Protection Commission at dpc@delta.ca.gov or (916) 375-4800. \nComments submitted to submit@delta.ca.gov by noon on October 28\, 2025\, will be shared with Committee members prior to the meeting to the extent possible. Public comments on each agenda item will follow the order of: 1) emailed comments\, 2) those verbally requesting to make comments after notice offered by Chair during meeting. \nNational Heritage Area Advisory Committee Members\nChair Amanda Bohl | Vice Chair Elizabeth Patterson | Diane Burgis\, Commission Chair | Michael Campbell | Colin Coffey | Lisa Craig | Dwayne Eubanks | Morris Lum | \nCarol Jensen | Don Nottoli | David Stuart | Oscar Villegas\, Commissioner | Dan Whaley | Stuart Walthall | Katie Wiley \nEX OFFICIO MEMBERS: Amanda Blosser California State Parks | Chris Lim Contra Costa Resource Conservation District | Karen Buhr\, Sacramento-San Joaquin Delta Conservancy | Jeff Henderson\, Delta Stewardship Council | Mike Moran\, East Bay Regional Park District | Trevor Rice\, National Park Service | Desmond Mackell\, Suisun Resource Conservation District. Other public agency representatives may also participate as ex-officio members. \nALTERNATE MEMBERS: \nDouglas Hsia | Janet Lake | Gia Moreno | Jennifer Chapman | LeighAnn Davis
URL:https://delta.ca.gov/calendar/national-heritage-area-advisory-committee-2025-10-29/
LOCATION:Big Break Visitor Center\, 69 Big Break Rd\, Oakley\, CA\, 94561
CATEGORIES:Delta Protection Commission Meetings
END:VEVENT
END:VCALENDAR