BEGIN:VCALENDAR
VERSION:2.0
PRODID:-//Delta Protection Commission - ECPv6.15.20//NONSGML v1.0//EN
CALSCALE:GREGORIAN
METHOD:PUBLISH
X-WR-CALNAME:Delta Protection Commission
X-ORIGINAL-URL:https://delta.ca.gov
X-WR-CALDESC:Events for Delta Protection Commission
REFRESH-INTERVAL;VALUE=DURATION:PT1H
X-Robots-Tag:noindex
X-PUBLISHED-TTL:PT1H
BEGIN:VTIMEZONE
TZID:America/Los_Angeles
BEGIN:DAYLIGHT
TZOFFSETFROM:-0800
TZOFFSETTO:-0700
TZNAME:PDT
DTSTART:20240310T100000
END:DAYLIGHT
BEGIN:STANDARD
TZOFFSETFROM:-0700
TZOFFSETTO:-0800
TZNAME:PST
DTSTART:20241103T090000
END:STANDARD
BEGIN:DAYLIGHT
TZOFFSETFROM:-0800
TZOFFSETTO:-0700
TZNAME:PDT
DTSTART:20250309T100000
END:DAYLIGHT
BEGIN:STANDARD
TZOFFSETFROM:-0700
TZOFFSETTO:-0800
TZNAME:PST
DTSTART:20251102T090000
END:STANDARD
BEGIN:DAYLIGHT
TZOFFSETFROM:-0800
TZOFFSETTO:-0700
TZNAME:PDT
DTSTART:20260308T100000
END:DAYLIGHT
BEGIN:STANDARD
TZOFFSETFROM:-0700
TZOFFSETTO:-0800
TZNAME:PST
DTSTART:20261101T090000
END:STANDARD
END:VTIMEZONE
BEGIN:VEVENT
DTSTART;TZID=America/Los_Angeles:20251202T173000
DTEND;TZID=America/Los_Angeles:20251202T193000
DTSTAMP:20260419T225243
CREATED:20241204T213823Z
LAST-MODIFIED:20251121T175254Z
UID:220593-1764696600-1764703800@delta.ca.gov
SUMMARY:Delta Protection Advisory Committee
DESCRIPTION:PUBLIC NOTICE AND MEETING AGENDA\nDelta Protection Advisory Committee\nTuesday\, December 2\, 2025\, 5:30 p.m.\nClarksburg Schoolhouse\n36397 North Center Street (parking on River Road side)\nClarksburg\, CA 95612 \nCombined agenda and staff report (PDF) \nAgenda\n\nCall to Order/Flag Salute – Anna Swenson\, DPAC Chair\nWelcome and Roll Call – Introductions with a Special Welcome to the New Executive Director\, Amanda Bohl\nPublic Comment – An opportunity for members of the public to address the Committee regarding items not on the agenda.\nApproval of August 5\, 2025\, Meeting Minutes\nApproval of 2026 Meeting Schedule\nRecognition of Angels Recovery Dive Team – Chair Swenson and Juan Heredia\nUpdate on Delta Protection Commission activities – Amanda Bohl\, Executive Director\nClarksburg Trail Update – Virginia Gardiner\, Program Manager\nGolden Mussel Update – The Committee\nTask Group Report Out on Rivers and Levees – The Committee\nDelta High School Parent Group Facility Update – Gia Moreno\nFreeport Jurisdiction Inquiry – Janet Lake and the Freeport Community Group\nMember Announcements and Next Meeting\nAdjourn\n\nThe agenda items listed above may be considered in a different order at the Committee meeting\, subject to the discretion of the Chair. At the discretion of the Committee\, all items appearing on this agenda\, whether or not expressly listed for action\, may be deliberated upon and may be subject to action. The Committee welcomes and encourages participation in its meetings. The Committee limits testimony to not more than three minutes per person\, or more time at the discretion of the Chair. \nQuestions\, Comments\, and Requests\nIf you have any questions or have a request for reasonable modification or accommodation due to a disability\, please contact the Delta Protection Commission at dpc@delta.ca.gov or (916) 375-4800. \nComments submitted to submit@delta.ca.gov by noon on December 1\, 2025\, will be shared with Commissioners prior to the meeting to the extent possible. Public comments on each agenda item will follow the order of: 1) emailed comments\, 2) those verbally requesting to make comments after notice offered by Chair during meeting. \nDelta Protection Advisory Committee Members\nChair Anna Swenson and Katherine Wiley (Delta General Public Gerry Goodie Memorial Seat) | Vice Chair Russ Ryan (Delta Water Exporter) |  Arron Pellarin and\nEmily Pappalardo (Delta Business) | Craig Watanabe and Jeff Iniguez (Delta Agriculture)| Todd Bruce and Morris Lum (Delta Recreation) | Edward Hard and Erin Chappell (State Agency) | Jeffrey Twitchell (Delta Flood Entity) | Mariah Looney (Delta Organization) | Jerred Dixon (Delta Conservation/Habitat Non-governmental Organization) | Sam Garcia (Delta Utility/Infrastructure) | Douglas Hsia (Delta Cultural Preservation) |\nSteven Hutchason (Delta Tribe). \nEX OFFICIO MEMBERS: Representatives of the California Department of Water Resources\, U.S. Bureau of Reclamation\, U.S. Fish and Wildlife Service\, Delta Stewardship Council\, and Sacramento-San Joaquin Delta Conservancy.
URL:https://delta.ca.gov/calendar/delta-protection-advisory-committee-2025-12-02/
LOCATION:Clarksburg School House – park on River Road side\, 36397 N Center St\, Clarksburg\, CA\, 95612
CATEGORIES:Delta Protection Commission Meetings
END:VEVENT
BEGIN:VEVENT
DTSTART;TZID=America/Los_Angeles:20251217T130000
DTEND;TZID=America/Los_Angeles:20251217T150000
DTSTAMP:20260419T225243
CREATED:20241207T000051Z
LAST-MODIFIED:20251205T222423Z
UID:220610-1765976400-1765983600@delta.ca.gov
SUMMARY:National Heritage Area Advisory Committee
DESCRIPTION:PUBLIC NOTICE AND MEETING AGENDA\nNational Heritage Area Advisory Committee\nWednesday\, December 17\, 2025\, 1 p.m.\nRio Vista Community Center\n45 Main Street\, Rio Vista\, CA 94571 \nAgenda packet – combined agenda and staff reports (PDF) \nAgenda\n\nCall to Order – Amanda Bohl\, NHA Advisory Committee Chair\nRoll Call\nPublic Comment – an opportunity for members of the public to address the NHA Advisory Committee regarding items not on the agenda\nApproval of August 20\, 2025\, and October 29\, 2025\, Meeting Minutes\nRio Vista Heritage Presentation – Tom Surh\, RioVision\n2026 Meeting Schedule – Amanda Bohl\nUpdate on NHA Activities – Blake Roberts\nReport on Delta 250 Ad Hoc Task Group – Task Group\nReport on Water Tour Ad Hoc Task Group – Task Group\nVisitCADelta.com Events Calendar – Holly Heyser\nMember Announcements and Adjourn\n\nThe agenda items listed above may be considered in a different order at the Committee meeting\, subject to the discretion of the Chair. At the discretion of the Committee\, all items appearing on this agenda\, whether or not expressly listed for action\, may be deliberated upon and may be subject to action. The Committee welcomes and encourages participation in its meetings. The Committee limits testimony to not more than three minutes per person\, or more time at the discretion of the Chair. \nQuestions\, Comments\, and Requests\nIf you have any questions or have a request for reasonable modification or accommodation due to a disability\, please contact the Delta Protection Commission at dpc@delta.ca.gov or (916) 375-4800. \nComments submitted to submit@delta.ca.gov by noon on December 16\, 2025\, will be shared with Committee members prior to the meeting to the extent possible. Public comments on each agenda item will follow the order of: 1) emailed comments\, 2) those verbally requesting to make comments after notice offered by Chair during meeting. \nNational Heritage Area Advisory Committee Members\nChair Amanda Bohl | Vice Chair Elizabeth Patterson | Diane Burgis\, Commission Chair | Michael Campbell | Colin Coffey | Lisa Craig | Dwayne Eubanks | Morris Lum | Carol Jensen | Don Nottoli | David Stuart | Oscar Villegas\, Commissioner | Dan Whaley | Stuart Walthall | Katie Wiley \nEX OFFICIO MEMBERS: Amanda Blosser California State Parks | Chris Lim Contra Costa Resource Conservation District | Karen Buhr\, Sacramento-San Joaquin Delta Conservancy | Jeff Henderson\, Delta Stewardship Council | Mike Moran\, East Bay Regional Park District | Trevor Rice\, National Park Service | Desmond Mackell\, Suisun Resource Conservation District. Other public agency representatives may also participate as ex-officio members. \nALTERNATE MEMBERS: \nDouglas Hsia | Janet Lake | Gia Moreno | Jennifer Chapman | LeighAnn Davis
URL:https://delta.ca.gov/calendar/national-heritage-area-advisory-committee-2025-12-17/
LOCATION:Rio Vista Community Center\, 45 Main Street\, Rio Vista\, 94571\, United States
CATEGORIES:Delta Protection Commission Meetings
END:VEVENT
END:VCALENDAR