BEGIN:VCALENDAR
VERSION:2.0
PRODID:-//Delta Protection Commission - ECPv6.15.20//NONSGML v1.0//EN
CALSCALE:GREGORIAN
METHOD:PUBLISH
X-ORIGINAL-URL:https://delta.ca.gov
X-WR-CALDESC:Events for Delta Protection Commission
REFRESH-INTERVAL;VALUE=DURATION:PT1H
X-Robots-Tag:noindex
X-PUBLISHED-TTL:PT1H
BEGIN:VTIMEZONE
TZID:America/Los_Angeles
BEGIN:DAYLIGHT
TZOFFSETFROM:-0800
TZOFFSETTO:-0700
TZNAME:PDT
DTSTART:20210314T100000
END:DAYLIGHT
BEGIN:STANDARD
TZOFFSETFROM:-0700
TZOFFSETTO:-0800
TZNAME:PST
DTSTART:20211107T090000
END:STANDARD
BEGIN:DAYLIGHT
TZOFFSETFROM:-0800
TZOFFSETTO:-0700
TZNAME:PDT
DTSTART:20220313T100000
END:DAYLIGHT
BEGIN:STANDARD
TZOFFSETFROM:-0700
TZOFFSETTO:-0800
TZNAME:PST
DTSTART:20221106T090000
END:STANDARD
BEGIN:DAYLIGHT
TZOFFSETFROM:-0800
TZOFFSETTO:-0700
TZNAME:PDT
DTSTART:20230312T100000
END:DAYLIGHT
BEGIN:STANDARD
TZOFFSETFROM:-0700
TZOFFSETTO:-0800
TZNAME:PST
DTSTART:20231105T090000
END:STANDARD
END:VTIMEZONE
BEGIN:VEVENT
DTSTART;TZID=America/Los_Angeles:20221117T170000
DTEND;TZID=America/Los_Angeles:20221117T190000
DTSTAMP:20260424T120042
CREATED:20211216T180943Z
LAST-MODIFIED:20250327T234430Z
UID:217304-1668704400-1668711600@delta.ca.gov
SUMMARY:Delta Protection Commission Meeting
DESCRIPTION:Administrative Agenda\n1. Call to order and Flag Salute \n2. Welcome & Roll Call \n3. Public Comment – an opportunity for members of the public to address the Commission regarding items not on the Agenda \n4. Report on Delta Stewardship Council activities – Chair Don Nottoli \n5. Commissioner comments/announcements \nConsent Agenda\n6. Consider approval of the September 15\, 2022 meeting minutes (PDF) \n7. Consider approval of 2023 meeting schedule \n8. Consider one-time authorization for Executive Director to execute HR services and IT contracts \nRegular Agenda\n9. Review and consider approval of draft comments on Delta Conveyance Project – Virginia Gardiner\, Program Manager \n10. Receive Executive Director report – Bruce Blodgett\, Executive Director \n11. Receive Delta Protection Advisory Committee (DPAC) report – Mariah Looney (DPAC Chair) \n12. Review and approve draft comment letter on the Delta Levee Investment Strategy Administrative Procedure Act Rulemaking Process – Kirsten Pringle\, Senior Environmental Planner \n13. Elect Chair and Vice Chair for 2023 – The Commission \n14. Adjourn
URL:https://delta.ca.gov/calendar/commission-meeting-november-2022/
LOCATION:Jean Harvie Community Center\, 14273 River Road\, Walnut Grove\, CA\, 95690
CATEGORIES:Delta Protection Commission Meetings
ORGANIZER;CN="Delta Protection Commission":MAILTO:dpc@delta.ca.gov
END:VEVENT
END:VCALENDAR