BEGIN:VCALENDAR
VERSION:2.0
PRODID:-//Delta Protection Commission - ECPv6.15.20//NONSGML v1.0//EN
CALSCALE:GREGORIAN
METHOD:PUBLISH
X-ORIGINAL-URL:https://delta.ca.gov
X-WR-CALDESC:Events for Delta Protection Commission
REFRESH-INTERVAL;VALUE=DURATION:PT1H
X-Robots-Tag:noindex
X-PUBLISHED-TTL:PT1H
BEGIN:VTIMEZONE
TZID:America/Los_Angeles
BEGIN:DAYLIGHT
TZOFFSETFROM:-0800
TZOFFSETTO:-0700
TZNAME:PDT
DTSTART:20240310T100000
END:DAYLIGHT
BEGIN:STANDARD
TZOFFSETFROM:-0700
TZOFFSETTO:-0800
TZNAME:PST
DTSTART:20241103T090000
END:STANDARD
BEGIN:DAYLIGHT
TZOFFSETFROM:-0800
TZOFFSETTO:-0700
TZNAME:PDT
DTSTART:20250309T100000
END:DAYLIGHT
BEGIN:STANDARD
TZOFFSETFROM:-0700
TZOFFSETTO:-0800
TZNAME:PST
DTSTART:20251102T090000
END:STANDARD
BEGIN:DAYLIGHT
TZOFFSETFROM:-0800
TZOFFSETTO:-0700
TZNAME:PDT
DTSTART:20260308T100000
END:DAYLIGHT
BEGIN:STANDARD
TZOFFSETFROM:-0700
TZOFFSETTO:-0800
TZNAME:PST
DTSTART:20261101T090000
END:STANDARD
END:VTIMEZONE
BEGIN:VEVENT
DTSTART;TZID=America/Los_Angeles:20250225T170000
DTEND;TZID=America/Los_Angeles:20250225T190000
DTSTAMP:20260420T162609
CREATED:20250211T184145Z
LAST-MODIFIED:20250212T230751Z
UID:220868-1740502800-1740510000@delta.ca.gov
SUMMARY:Delta Protection Commission Meeting
DESCRIPTION:PUBLIC NOTICE AND MEETING AGENDA\nDelta Protection Commission\n2/25/2025 orden del día (Spanish translation) \nTuesday\, February 25\, 2025\, 5-7 p.m. (end time is approximate)\nSacramento-San Joaquin Delta Conservancy Conference Room\n1450 Halyard Drive\, Suite 6\, West Sacramento\, CA 95691\n(Main Meeting Location) \nOakley City Hall\nCouncil Antechambers\n3231 Main Street\, Oakley\, CA 94561\n(Teleconference Location) \nMohan Harris Ruiz LLP\n1806 W. Kettleman Lane\, Suite L\,\nLodi\, CA 95242\n(Teleconference Location) \nCalifornia Natural Resources Agency\n715 P Street\, 20th Floor\,\nSacramento\, CA 95814\n(Teleconference Location) \nLafayette Library\n3491 Mount Diablo Blvd.\,\nLafayette\, CA 94549\n(Teleconference Location) \nDelta Farms Reclamation District No. 2030\n5555 Zuckerman Road\nStockton\, CA 95206\n(Teleconference Location) \nIsleton City Hall\n101 2nd Street\nIsleton\, CA 95641\n(Teleconference Location) \nJoin the meeting now\nMeeting ID: 217 269 978 156\nPasscode: xQ2HZ32n\nDial in by phone:+1 916-573-2034\,\,590436085#\n(Online Microsoft Teams meeting) \nAgenda\n\nCall to order and Flag Salute\nWelcome & Roll Call\nPublic Comment – an opportunity for members of the public to address the Commission regarding items not on the agenda\n\nClosed Session Agenda\n\nThe Delta Protection Commission will meet in closed session to consider the employment\, evaluation of performance\, or dismissal of the Executive Director. This closed session is authorized by Government Code section 11126\, subdivision (a)(1).\nIf necessary\, the Delta Protection Commission may meet in closed session to consider the appointment of an Interim Executive Director. This closed session is authorized by Government Code section 11126\, subdivision (a)(1).\nAdjourn\n\nThe agenda items listed above may be considered in a different order at the Commission meeting\, subject to the discretion of the Chair. At the discretion of the Commission\, all items appearing on this agenda\, whether or not expressly listed for action\, may be deliberated upon and may be subject to action. The Commission welcomes and encourages participation in its meetings. The Commission limits testimony to not more than three minutes per person\, or more time at the discretion of the Chair. \nQuestions\, Comments\, and Requests\nIf you have any questions or have a request for reasonable modification or accommodation due to a disability\, please contact the Delta Protection Commission at dpc@delta.ca.gov or (916) 375-4800. Attachments and additional information can be found on the Delta Protection Commission website: delta.ca.gov. \nComments submitted to submit@delta.ca.gov by noon on February 24\, 2024\, will be shared with Commissioners prior to the meeting to the extent possible. Public comments on each agenda item will follow the order of: 1) emailed comments\, 2) those verbally requesting to make comments after notice offered by Chair during meeting. \nDelta Protection Commission Members\nDiane Burgis\, Chair\, Contra Costa County Board of Supervisors | John Vasquez\, Vice Chair\, Solano County Board of Supervisors | Oscar Villegas\, Yolo County Board of Supervisors | Patrick Hume\, Sacramento County Board of Supervisors | Sonny Dhaliwal\, San Joaquin County Board of Supervisors | Anissa Williams\, Cities of Contra Costa and Solano counties | David Kent\, Cities of Sacramento and Yolo Counties | Alan Nakanishi\, Cities of San Joaquin County | Jim Paroli\, Central Delta Reclamation Districts | Tom Slater\, North Delta Reclamation Districts | TBD\, South Delta Reclamation Districts | Toks Omishakin\, CA State Transportation Agency | Karen Ross\, CA Department of Food and Agriculture | Wade Crowfoot\, CA Natural Resources Agency | TBD\, CA State Lands Commission \nEX OFFICIO MEMBERS: Rhodesia Ransom\, California State Assembly | Jerry McNerney\, California State Senate
URL:https://delta.ca.gov/calendar/delta-protection-commission-meeting-2025-02-25/
LOCATION:Delta Conservancy\, 1450 Halyard Drive\, Suite 6\, West Sacramento\, CA\, 95691\, United States
CATEGORIES:Delta Protection Commission Meetings
END:VEVENT
END:VCALENDAR