BEGIN:VCALENDAR
VERSION:2.0
PRODID:-//Delta Protection Commission - ECPv6.15.20//NONSGML v1.0//EN
CALSCALE:GREGORIAN
METHOD:PUBLISH
X-WR-CALNAME:Delta Protection Commission
X-ORIGINAL-URL:https://delta.ca.gov
X-WR-CALDESC:Events for Delta Protection Commission
REFRESH-INTERVAL;VALUE=DURATION:PT1H
X-Robots-Tag:noindex
X-PUBLISHED-TTL:PT1H
BEGIN:VTIMEZONE
TZID:America/Los_Angeles
BEGIN:DAYLIGHT
TZOFFSETFROM:-0800
TZOFFSETTO:-0700
TZNAME:PDT
DTSTART:20240310T100000
END:DAYLIGHT
BEGIN:STANDARD
TZOFFSETFROM:-0700
TZOFFSETTO:-0800
TZNAME:PST
DTSTART:20241103T090000
END:STANDARD
BEGIN:DAYLIGHT
TZOFFSETFROM:-0800
TZOFFSETTO:-0700
TZNAME:PDT
DTSTART:20250309T100000
END:DAYLIGHT
BEGIN:STANDARD
TZOFFSETFROM:-0700
TZOFFSETTO:-0800
TZNAME:PST
DTSTART:20251102T090000
END:STANDARD
BEGIN:DAYLIGHT
TZOFFSETFROM:-0800
TZOFFSETTO:-0700
TZNAME:PDT
DTSTART:20260308T100000
END:DAYLIGHT
BEGIN:STANDARD
TZOFFSETFROM:-0700
TZOFFSETTO:-0800
TZNAME:PST
DTSTART:20261101T090000
END:STANDARD
END:VTIMEZONE
BEGIN:VEVENT
DTSTART;TZID=America/Los_Angeles:20250805T173000
DTEND;TZID=America/Los_Angeles:20250805T193000
DTSTAMP:20260420T074111
CREATED:20241204T213727Z
LAST-MODIFIED:20250725T193134Z
UID:220589-1754415000-1754422200@delta.ca.gov
SUMMARY:Delta Protection Advisory Committee
DESCRIPTION:PUBLIC NOTICE AND MEETING AGENDA\nDelta Protection Advisory Committee\nTuesday\, August 5\, 2025\, 5:30 p.m.\nStaten Island\, 20250 N. Staten Island Rd.\, Thornton\, CA 95686 \nAgenda packet – agenda\, staff reports\, attachments (PDF) \nAgenda\n\nCall to Order/Flag Salute – Anna Swenson\, DPAC Chair\nWelcome New Member and Roll Call\nPublic Comment – An opportunity for members of the public to address the Committee regarding items not on the agenda.\nApproval of June 3\, 2025\, Meeting Minutes\nUpdate on Delta Protection Commission activities – Dan Ray\nConsider Waterways Cleanup Task Group – The Committee\nConsider Task Groups on Agriculture\, Delta Conveyance\, and Rivers and Levees – The Committee\nReport on Delta Tunnel National Historic Preservation Act Section 106 Programmatic Agreement – Virginia Gardiner\nUpdate on State Water Resources Control Board Actions in the Delta– Jay Ziegler\, Delta Watermaster\, State Water Resources Control Board\nUpdate on South Delta Sediment Remediation – Russ Ryan\nMember Announcements and Next Meeting\nAdjourn\n\nThe agenda items listed above may be considered in a different order at the Committee meeting\, subject to the discretion of the Chair. At the discretion of the Committee\, all items appearing on this agenda\, whether or not expressly listed for action\, may be deliberated upon and may be subject to action. The Committee welcomes and encourages participation in its meetings. The Committee limits testimony to not more than three minutes per person\, or more time at the discretion of the Chair. \nQuestions\, Comments\, and Requests\nIf you have any questions or have a request for reasonable modification or accommodation due to a disability\, please contact the Delta Protection Commission at dpc@delta.ca.gov or (916) 375-4800. \nComments submitted to submit@delta.ca.gov by noon on August 4\, 2025\, will be shared with Commissioners prior to the meeting to the extent possible. Public comments on each agenda item will follow the order of: 1) emailed comments\, 2) those verbally requesting to make comments after notice offered by Chair during meeting. \nDelta Protection Advisory Committee Members\nChair Anna Swenson and Katherine Wiley (Delta General Public Gerry Goodie Memorial Seat) | Vice Chair Russ Ryan (Delta Water Exporter) | Arron Pellarin and Emily Pappalardo (Delta Business) | Craig Watanabe and Jeff Iniguez (Delta Agriculture) | Todd Bruce and Morris Lum (Delta Recreation) | Edward Hard and Erin Chappell (State Agency) | Jeffrey Twitchell (Delta Flood Entity) | Mariah Looney (Delta Organization) | Jerred Dixon (Delta Conservation/Habitat Non-governmental Organization) | Sam Garcia (Delta Utility/Infrastructure) | Douglas Hsia (Delta Cultural Preservation) | Steven Hutchason (Delta Tribe). \nEX OFFICIO MEMBERS: Representatives of the California Department of Water Resources\, U.S. Bureau of Reclamation\, U.S. Fish and Wildlife Service\, Delta Stewardship Council\, and Sacramento-San Joaquin Delta Conservancy.
URL:https://delta.ca.gov/calendar/delta-protection-advisory-committee-2025-08-05/
LOCATION:Staten Island\, 20250 N. Staten Island Rd\, Thornton\, CA\, 95686\, United States
CATEGORIES:Delta Protection Commission Meetings
END:VEVENT
END:VCALENDAR