BEGIN:VCALENDAR
VERSION:2.0
PRODID:-//Delta Protection Commission - ECPv6.15.20//NONSGML v1.0//EN
CALSCALE:GREGORIAN
METHOD:PUBLISH
X-ORIGINAL-URL:https://delta.ca.gov
X-WR-CALDESC:Events for Delta Protection Commission
REFRESH-INTERVAL;VALUE=DURATION:PT1H
X-Robots-Tag:noindex
X-PUBLISHED-TTL:PT1H
BEGIN:VTIMEZONE
TZID:America/Los_Angeles
BEGIN:DAYLIGHT
TZOFFSETFROM:-0800
TZOFFSETTO:-0700
TZNAME:PDT
DTSTART:20240310T100000
END:DAYLIGHT
BEGIN:STANDARD
TZOFFSETFROM:-0700
TZOFFSETTO:-0800
TZNAME:PST
DTSTART:20241103T090000
END:STANDARD
BEGIN:DAYLIGHT
TZOFFSETFROM:-0800
TZOFFSETTO:-0700
TZNAME:PDT
DTSTART:20250309T100000
END:DAYLIGHT
BEGIN:STANDARD
TZOFFSETFROM:-0700
TZOFFSETTO:-0800
TZNAME:PST
DTSTART:20251102T090000
END:STANDARD
BEGIN:DAYLIGHT
TZOFFSETFROM:-0800
TZOFFSETTO:-0700
TZNAME:PDT
DTSTART:20260308T100000
END:DAYLIGHT
BEGIN:STANDARD
TZOFFSETFROM:-0700
TZOFFSETTO:-0800
TZNAME:PST
DTSTART:20261101T090000
END:STANDARD
END:VTIMEZONE
BEGIN:VEVENT
DTSTART;TZID=America/Los_Angeles:20250806T083000
DTEND;TZID=America/Los_Angeles:20250806T130000
DTSTAMP:20260420T074219
CREATED:20250725T231719Z
LAST-MODIFIED:20250725T233332Z
UID:221725-1754469000-1754485200@delta.ca.gov
SUMMARY:Delta Protection Commission - Executive Director Final Interviews
DESCRIPTION:PUBLIC NOTICE AND MEETING AGENDA\nDelta Protection Commission\nExecutive Director Final Interviews\nWednesday\, August 6\, 2025\, 8:30 a.m. to 1:00 p.m. (end time is approximate)\nSacramento-San Joaquin Delta Conservancy Conference Room\n1450 Halyard Drive\, Suite 6\, West Sacramento 95691\n(Main Meeting Location) \nSolano County Government Office\n675 Texas St.\, Ste. 6002\nFairfield\, CA 94533\n(Teleconference Location) \nSan Joaquin County Administration Building\n44 N San Joaquin St\, Ste 627\nStockton\, CA 95202\n(Teleconference Location) \nAgenda\n\nCall to order and Flag Salute\nWelcome & Roll Call\nPublic Comment – an opportunity for members of the public to address the Commission regarding items not on the agenda\n\nClosed Session Agenda\n\nThe Delta Protection Commission will meet in closed session to consider candidates for the Executive Director position. This closed session is authorized by Government Code section 11126\, subdivision (a)(1).\nAdjourn\n\nThe agenda items listed above may be considered in a different order at the Commission meeting\, subject to the discretion of the Chair. At the discretion of the Commission\, all items appearing on this agenda\, whether or not expressly listed for action\, may be deliberated upon and may be subject to action. The Commission welcomes and encourages participation in its meetings. The Commission limits testimony to not more than three minutes per person\, or more time at the discretion of the Chair. \nQuestions\, Comments\, and Requests\nIf you have any questions or have a request for reasonable modification or accommodation due to a disability\, please contact the Delta Protection Commission at dpc@delta.ca.gov or (916) 375-4800. Attachments and additional information can be found on the Delta Protection Commission website: delta.ca.gov. \nComments submitted to submit@delta.ca.gov by noon on August 5\, 2025\, will be shared with Commissioners prior to the meeting to the extent possible. Public comments on each agenda item will follow the order of: 1) emailed comments\, 2) those verbally requesting to make comments after notice offered by Chair during meeting. \nDelta Protection Commission Members\nDiane Burgis\, Chair\, Contra Costa County Board of Supervisors | John Vasquez\, Vice Chair\, Solano County Board of Supervisors | Oscar Villegas\, Yolo County Board of Supervisors | Patrick Hume\, Sacramento County Board of Supervisors | Sonny Dhaliwal\, San Joaquin County Board of Supervisors | Anissa Williams\, Cities of Contra Costa and Solano counties | David Kent\, Cities of Sacramento and Yolo Counties | Cameron Bregman\, Cities of San Joaquin County | Jim Paroli\, Central Delta Reclamation Districts | Tom Slater\, North Delta Reclamation Districts | TBD\, South Delta Reclamation Districts | Toks Omishakin\, CA State Transportation Agency | Karen Ross\, CA Department of Food and Agriculture | Wade Crowfoot\, CA Natural Resources Agency | TBD\, CA State Lands Commission \nEX OFFICIO MEMBERS: Rhodesia Ransom\, California State Assembly | Jerry McNerney\, California State Senate
URL:https://delta.ca.gov/calendar/dpc-executive-director-interviews/
LOCATION:Delta Conservancy\, 1450 Halyard Drive\, Suite 6\, West Sacramento\, CA\, 95691\, United States
CATEGORIES:Delta Protection Commission Meetings
END:VEVENT
END:VCALENDAR