BEGIN:VCALENDAR
VERSION:2.0
PRODID:-//Delta Protection Commission - ECPv6.15.20//NONSGML v1.0//EN
CALSCALE:GREGORIAN
METHOD:PUBLISH
X-ORIGINAL-URL:https://delta.ca.gov
X-WR-CALDESC:Events for Delta Protection Commission
REFRESH-INTERVAL;VALUE=DURATION:PT1H
X-Robots-Tag:noindex
X-PUBLISHED-TTL:PT1H
BEGIN:VTIMEZONE
TZID:America/Los_Angeles
BEGIN:DAYLIGHT
TZOFFSETFROM:-0800
TZOFFSETTO:-0700
TZNAME:PDT
DTSTART:20240310T100000
END:DAYLIGHT
BEGIN:STANDARD
TZOFFSETFROM:-0700
TZOFFSETTO:-0800
TZNAME:PST
DTSTART:20241103T090000
END:STANDARD
BEGIN:DAYLIGHT
TZOFFSETFROM:-0800
TZOFFSETTO:-0700
TZNAME:PDT
DTSTART:20250309T100000
END:DAYLIGHT
BEGIN:STANDARD
TZOFFSETFROM:-0700
TZOFFSETTO:-0800
TZNAME:PST
DTSTART:20251102T090000
END:STANDARD
BEGIN:DAYLIGHT
TZOFFSETFROM:-0800
TZOFFSETTO:-0700
TZNAME:PDT
DTSTART:20260308T100000
END:DAYLIGHT
BEGIN:STANDARD
TZOFFSETFROM:-0700
TZOFFSETTO:-0800
TZNAME:PST
DTSTART:20261101T090000
END:STANDARD
END:VTIMEZONE
BEGIN:VEVENT
DTSTART;TZID=America/Los_Angeles:20250818T090000
DTEND;TZID=America/Los_Angeles:20250818T100000
DTSTAMP:20260420T074312
CREATED:20250807T204032Z
LAST-MODIFIED:20250816T015542Z
UID:221820-1755507600-1755511200@delta.ca.gov
SUMMARY:CANCELED - Delta Protection Commission Meeting
DESCRIPTION:CANCELED\nPUBLIC NOTICE AND MEETING AGENDA\nDelta Protection Commission\nExecutive Director Appointment\nMonday\, August 18\, 2025\, 9-10 a.m. (end time is approximate) \nCalifornia Natural Resources Agency\n715 P Street\, Room 20-201\nSacramento\, CA 95814\n(Main Meeting Location) \nContra Costa County Government Office\n3361 Walnut Boulevard\, Suite 140\nBrentwood\, CA 94513\n(Teleconference Location) \nSan Joaquin County Administration Building\n44 N San Joaquin St\, Ste 627\nStockton\, CA 95202\n(Teleconference Location) \nSolano County Government Office\n675 Texas St.\, Ste. 6002\nFairfield\, CA 94533\n(Teleconference Location) \nLafayette Library\n3491 Mount Diablo Blvd.\,\nLafayette\, CA 94549\n(Teleconference Location) \nHampton Inn Del Mar\n11920 El Camino Road\nSan Diego\, CA 92130\n(Teleconference Location) \nSacramento County Administration Building\n700 H Street\nSacramento\, CA 95814\n(Teleconference Location) \nDelta Farms Reclamation District No. 2030\n5555 Zuckerman Road\nMcDonald Island\, CA 95206\n(Teleconference Location) \nJoin Zoom Meeting\nPass: 202371\nJoin by Telephone  Dial: USA 404 443 6397\nUSA 877 336 1831 (US Toll Free)\nConference code: 473786\n(Online Zoom meeting) \nAgenda packet – agenda and staff report (PDF) \nAgenda\n\nCall to order and Flag Salute\nWelcome & Roll Call\nPublic Comment – an opportunity for members of the public to address the Commission regarding items not on the agenda\nConsider the appointment and salary of an Executive Director.\nAdjourn\n\nThe agenda items listed above may be considered in a different order at the Commission meeting\, subject to the discretion of the Chair. At the discretion of the Commission\, all items appearing on this agenda\, whether or not expressly listed for action\, may be deliberated upon and may be subject to action. The Commission welcomes and encourages participation in its meetings. The Commission limits testimony to not more than three minutes per person\, or more time at the discretion of the Chair. \nQuestions\, Comments\, and Requests\nIf you have any questions or have a request for reasonable modification or accommodation due to a disability\, please contact the Delta Protection Commission at dpc@delta.ca.gov or (916) 375-4800. Attachments and additional information can be found on the Delta Protection Commission website: delta.ca.gov. \nComments submitted to submit@delta.ca.gov by noon on August 15\, 2025\, will be shared with Commissioners prior to the meeting to the extent possible. Public comments on each agenda item will follow the order of: 1) emailed comments\, 2) those verbally requesting to make comments after notice offered by Chair during meeting. \nDelta Protection Commission Members\nDiane Burgis\, Chair\, Contra Costa County Board of Supervisors | John Vasquez\, Vice Chair\, Solano County Board of Supervisors | Oscar Villegas\, Yolo County Board of Supervisors | Patrick Hume\, Sacramento County Board of Supervisors | Sonny Dhaliwal\, San Joaquin County Board of Supervisors | Anissa Williams\, Cities of Contra Costa and Solano counties | David Kent\, Cities of Sacramento and Yolo Counties | Cameron Bregman\, Cities of San Joaquin County | Jim Paroli\, Central Delta Reclamation Districts | Tom Slater\, North Delta Reclamation Districts | TBD\, South Delta Reclamation Districts | Toks Omishakin\, CA State Transportation Agency | Karen Ross\, CA Department of Food and Agriculture | Wade Crowfoot\, CA Natural Resources Agency | TBD\, CA State Lands Commission \nEX OFFICIO MEMBERS: Rhodesia Ransom\, California State Assembly | Jerry McNerney\, California State Senate
URL:https://delta.ca.gov/calendar/delta-protection-commission-2025-08-18/
LOCATION:California Natural Resources Agency\, 715 P Street\, Room 20-201\, Sacramento\, CA\, 95814\, United States
CATEGORIES:Delta Protection Commission Meetings
END:VEVENT
END:VCALENDAR