BEGIN:VCALENDAR
VERSION:2.0
PRODID:-//Delta Protection Commission - ECPv6.15.20//NONSGML v1.0//EN
CALSCALE:GREGORIAN
METHOD:PUBLISH
X-WR-CALNAME:Delta Protection Commission
X-ORIGINAL-URL:https://delta.ca.gov
X-WR-CALDESC:Events for Delta Protection Commission
REFRESH-INTERVAL;VALUE=DURATION:PT1H
X-Robots-Tag:noindex
X-PUBLISHED-TTL:PT1H
BEGIN:VTIMEZONE
TZID:America/Los_Angeles
BEGIN:DAYLIGHT
TZOFFSETFROM:-0800
TZOFFSETTO:-0700
TZNAME:PDT
DTSTART:20240310T100000
END:DAYLIGHT
BEGIN:STANDARD
TZOFFSETFROM:-0700
TZOFFSETTO:-0800
TZNAME:PST
DTSTART:20241103T090000
END:STANDARD
BEGIN:DAYLIGHT
TZOFFSETFROM:-0800
TZOFFSETTO:-0700
TZNAME:PDT
DTSTART:20250309T100000
END:DAYLIGHT
BEGIN:STANDARD
TZOFFSETFROM:-0700
TZOFFSETTO:-0800
TZNAME:PST
DTSTART:20251102T090000
END:STANDARD
BEGIN:DAYLIGHT
TZOFFSETFROM:-0800
TZOFFSETTO:-0700
TZNAME:PDT
DTSTART:20260308T100000
END:DAYLIGHT
BEGIN:STANDARD
TZOFFSETFROM:-0700
TZOFFSETTO:-0800
TZNAME:PST
DTSTART:20261101T090000
END:STANDARD
END:VTIMEZONE
BEGIN:VEVENT
DTSTART;TZID=America/Los_Angeles:20250820T130000
DTEND;TZID=America/Los_Angeles:20250820T150000
DTSTAMP:20260420T074112
CREATED:20241206T235935Z
LAST-MODIFIED:20250818T215949Z
UID:220606-1755694800-1755702000@delta.ca.gov
SUMMARY:National Heritage Area Advisory Committee
DESCRIPTION:PUBLIC NOTICE AND MEETING AGENDA\nNational Heritage Area Advisory Committee\nWednesday\, August 20\, 2025\, 10 a.m. (Tour) and 1:00 p.m. (Meeting)\nBenicia Capitol State Historic Park\n114 West G Street\, Benicia\, CA 94510 \nMeeting packet – agenda and staff reports (PDF) \nItem 4: Draft 6/25/2025 minutes \nTour of Benicia Arsenal departing from Benicia Capitol State Historic Park – 10 a.m. \n\nBenicia Clock Tower\, 189 Washington Street\, Benicia\, CA\nCommanding Officer’s Quarters\, 1 Washington Street\, Benicia\, CA\nMuseum of History Benicia\, Arsenal Galleries\, 2600 Camel Road\, Benicia\, CA\n\nAgenda – 1 p.m.\n\nCall to Order – Dan Ray\, NHA Advisory Committee Chair\nRoll Call\nPublic Comment – An opportunity for members of the public to address the NHA Advisory Committee regarding items not on the agenda\nApproval of the June 25\, 2025\, Meeting Minutes\nUpdate on NHA Activities – Blake Roberts\nTourism Branding and Marketing Plan – Kira O’Donnell and Blake Roberts\nBenicia History Discussion\nReport on Delta 250 Ad Hoc Task Group – Task Group\nReport on and Extend Term of Water Tour Ad Hoc Task Group – Task Group\nReport on Proposition 4 Funding – Karen Buhr\, Sacramento-San Joaquin Delta Conservancy\nPartnership and Passport Program Update – Blake Roberts\nBusiness Partnerships – Blake Roberts\nFederal Funding Update – Blake Roberts\nDelta Heritage Forum Planning – Kira O’Donnell and Blake Roberts\nMember Announcements and Adjourn\n\nThe agenda items listed above may be considered in a different order at the Committee meeting\, subject to the discretion of the Chair. At the discretion of the Committee\, all items appearing on this agenda\, whether or not expressly listed for action\, may be deliberated upon and may be subject to action. The Committee welcomes and encourages participation in its meetings. The Committee limits testimony to not more than three minutes per person\, or more time at the discretion of the Chair. \nQuestions\, Comments\, and Requests\nIf you have any questions or have a request for reasonable modification or accommodation due to a disability\, please contact the Delta Protection Commission at dpc@delta.ca.gov or (916) 375-4800. \nComments submitted to submit@delta.ca.gov by noon on August 19\, 2025\, will be shared with Committee members prior to the meeting to the extent possible. Public comments on each agenda item will follow the order of: 1) emailed comments\, 2) those verbally requesting to make comments after notice offered by Chair during meeting. \nNational Heritage Area Advisory Committee Members\nChair Dan Ray | Vice Chair Elizabeth Patterson | Diane Burgis\, Commission Chair | Michael Campbell | Colin Coffey | Lisa Craig | Dwayne Eubanks | Morris Lum | Carol Jensen | Don Nottoli | David Stuart | Oscar Villegas\, Commissioner | Dan Whaley | Stuart Walthall | Katie Wiley \nEX OFFICIO MEMBERS: Amanda Blosser California State Parks | Chris Lim Contra Costa Resource Conservation District | Karen Buhr\, Sacramento-San Joaquin Delta Conservancy | Jeff Henderson\, Delta Stewardship Council | Mike Moran\, East Bay Regional Park District | Trevor Rice\, National Park Service | Desmond Mackell\, Suisun Resource Conservation District. Other public agency representatives may also participate as ex-officio members. \nALTERNATE MEMBERS: \nPaulette Hennum | Douglas Hsia | Janet Lake | Gia Moreno
URL:https://delta.ca.gov/calendar/national-heritage-area-advisory-committee-2025-08-27/
LOCATION:Benicia Capitol State Historic Park\, 114 West G St.\, Benicia\, CA\, 94510\, United States
CATEGORIES:Delta Protection Commission Meetings
END:VEVENT
END:VCALENDAR