BEGIN:VCALENDAR
VERSION:2.0
PRODID:-//Delta Protection Commission - ECPv6.15.20//NONSGML v1.0//EN
CALSCALE:GREGORIAN
METHOD:PUBLISH
X-WR-CALNAME:Delta Protection Commission
X-ORIGINAL-URL:https://delta.ca.gov
X-WR-CALDESC:Events for Delta Protection Commission
REFRESH-INTERVAL;VALUE=DURATION:PT1H
X-Robots-Tag:noindex
X-PUBLISHED-TTL:PT1H
BEGIN:VTIMEZONE
TZID:America/Los_Angeles
BEGIN:DAYLIGHT
TZOFFSETFROM:-0800
TZOFFSETTO:-0700
TZNAME:PDT
DTSTART:20240310T100000
END:DAYLIGHT
BEGIN:STANDARD
TZOFFSETFROM:-0700
TZOFFSETTO:-0800
TZNAME:PST
DTSTART:20241103T090000
END:STANDARD
BEGIN:DAYLIGHT
TZOFFSETFROM:-0800
TZOFFSETTO:-0700
TZNAME:PDT
DTSTART:20250309T100000
END:DAYLIGHT
BEGIN:STANDARD
TZOFFSETFROM:-0700
TZOFFSETTO:-0800
TZNAME:PST
DTSTART:20251102T090000
END:STANDARD
BEGIN:DAYLIGHT
TZOFFSETFROM:-0800
TZOFFSETTO:-0700
TZNAME:PDT
DTSTART:20260308T100000
END:DAYLIGHT
BEGIN:STANDARD
TZOFFSETFROM:-0700
TZOFFSETTO:-0800
TZNAME:PST
DTSTART:20261101T090000
END:STANDARD
END:VTIMEZONE
BEGIN:VEVENT
DTSTART;TZID=America/Los_Angeles:20250904T110000
DTEND;TZID=America/Los_Angeles:20250904T120000
DTSTAMP:20260420T060212
CREATED:20250825T175525Z
LAST-MODIFIED:20250825T175525Z
UID:221898-1756983600-1756987200@delta.ca.gov
SUMMARY:Delta Protection Commission Meeting
DESCRIPTION:PUBLIC NOTICE AND MEETING AGENDA\nDelta Protection Commission\nExecutive Director Selection\nThursday\, September 4\, 2025\, 11 a.m.-noon (end time is approximate)\nCalifornia Natural Resources Agency\n715 P Street\, Room 02-221\nSacramento\, CA 95814\n(Main Meeting Location) \nContra Costa County Government Office\n3361 Walnut Boulevard\, Suite 140\nBrentwood\, CA 94513\n(Teleconference Location) \nNovo Nordisk Foundation\nTuborg Havnevej 19\, 2900 Hellerup\nDenmark \n(Teleconference Location) \nSolano County Government Office\n675 Texas St.\, Ste. 6002\nFairfield\, CA 94533\n(Teleconference Location) \nState Lands Commission\n100 Howe Avenue\, Suite 100\nSacramento\, CA 95814\n(Teleconference Location) \nSlater Farms Inc.\n36721 Netherlands Rd\nClarksburg\, Ca. 95612\n(Teleconference Location) \nCDFA Building\n1220 N Street\,\nSacramento\, CA 95814\n(Teleconference Location) \nSan Joaquin County Administration Building\n44 N San Joaquin St\, Ste 627\nStockton\, CA 95202\n(Teleconference Location) \nDelta Farms Reclamation District No. 2030\n5555 Zuckerman Road\nMcDonald Island\, CA 95206\n(Teleconference Location) \nMembers of the public are invited to participate from the main meeting location or any of the teleconferenced locations. \nAgenda\n\nCall to order and Flag Salute\nWelcome & Roll Call\nPublic Comment – an opportunity for members of the public to address the Commission regarding items not on the agenda\nClosed Session – The Delta Protection Commission will meet in closed session to consider candidates for the Executive Director position. This closed session is authorized by Government Code section 11126\, subdivision (a)(1).\nDiscussion regarding salary for the Executive Director and any additional direction regarding subsequent steps in the hiring process.\nAdjourn\n\nThe agenda items listed above may be considered in a different order at the Commission meeting\, subject to the discretion of the Chair. At the discretion of the Commission\, all items appearing on this agenda\, whether or not expressly listed for action\, may be deliberated upon and may be subject to action. The Commission welcomes and encourages participation in its meetings. The Commission limits testimony to not more than three minutes per person\, or more time at the discretion of the Chair. \nQuestions\, Comments\, and Requests\nIf you have any questions or have a request for reasonable modification or accommodation due to a disability\, please contact the Delta Protection Commission at dpc@delta.ca.gov or (916) 375-4800. Attachments and additional information can be found on the Delta Protection Commission website: delta.ca.gov. \nComments submitted to submit@delta.ca.gov by noon on September 3\, 2025\, will be shared with Commissioners prior to the meeting to the extent possible. Public comments on each agenda item will follow the order of: 1) emailed comments\, 2) those verbally requesting to make comments after notice offered by Chair during meeting. \nDelta Protection Commission Members\nDiane Burgis\, Chair\, Contra Costa County Board of Supervisors | John Vasquez\, Vice Chair\, Solano County Board of Supervisors | Oscar Villegas\, Yolo County Board of Supervisors | Patrick Hume\, Sacramento County Board of Supervisors | Sonny Dhaliwal\, San Joaquin County Board of Supervisors | Anissa Williams\, Cities of Contra Costa and Solano counties | David Kent\, Cities of Sacramento and Yolo Counties | Cameron Bregman\, Cities of San Joaquin County | Jim Paroli\, Central Delta Reclamation Districts | Tom Slater\, North Delta Reclamation Districts | TBD\, South Delta Reclamation Districts | Toks Omishakin\, CA State Transportation Agency | Karen Ross\, CA Department of Food and Agriculture | Wade Crowfoot\, CA Natural Resources Agency | TBD\, CA State Lands Commission \nEX OFFICIO MEMBERS: Rhodesia Ransom\, California State Assembly | Jerry McNerney\, California State Senate \n 
URL:https://delta.ca.gov/calendar/delta-protection-commission-2025-09-04/
LOCATION:California Natural Resources Agency\, 715 P Street\, Room 20-201\, Sacramento\, CA\, 95814\, United States
CATEGORIES:Delta Protection Commission Meetings
END:VEVENT
END:VCALENDAR