BEGIN:VCALENDAR
VERSION:2.0
PRODID:-//Delta Protection Commission - ECPv6.15.20//NONSGML v1.0//EN
CALSCALE:GREGORIAN
METHOD:PUBLISH
X-WR-CALNAME:Delta Protection Commission
X-ORIGINAL-URL:https://delta.ca.gov
X-WR-CALDESC:Events for Delta Protection Commission
REFRESH-INTERVAL;VALUE=DURATION:PT1H
X-Robots-Tag:noindex
X-PUBLISHED-TTL:PT1H
BEGIN:VTIMEZONE
TZID:America/Los_Angeles
BEGIN:DAYLIGHT
TZOFFSETFROM:-0800
TZOFFSETTO:-0700
TZNAME:PDT
DTSTART:20240310T100000
END:DAYLIGHT
BEGIN:STANDARD
TZOFFSETFROM:-0700
TZOFFSETTO:-0800
TZNAME:PST
DTSTART:20241103T090000
END:STANDARD
BEGIN:DAYLIGHT
TZOFFSETFROM:-0800
TZOFFSETTO:-0700
TZNAME:PDT
DTSTART:20250309T100000
END:DAYLIGHT
BEGIN:STANDARD
TZOFFSETFROM:-0700
TZOFFSETTO:-0800
TZNAME:PST
DTSTART:20251102T090000
END:STANDARD
BEGIN:DAYLIGHT
TZOFFSETFROM:-0800
TZOFFSETTO:-0700
TZNAME:PDT
DTSTART:20260308T100000
END:DAYLIGHT
BEGIN:STANDARD
TZOFFSETFROM:-0700
TZOFFSETTO:-0800
TZNAME:PST
DTSTART:20261101T090000
END:STANDARD
END:VTIMEZONE
BEGIN:VEVENT
DTSTART;TZID=America/Los_Angeles:20251117T100000
DTEND;TZID=America/Los_Angeles:20251117T120000
DTSTAMP:20260424T020147
CREATED:20251115T020029Z
LAST-MODIFIED:20251115T220154Z
UID:222192-1763373600-1763380800@delta.ca.gov
SUMMARY:Delta Protection Commission Meeting - Continuance of Nov. 13 Meeting
DESCRIPTION:PUBLIC NOTICE AND MEETING AGENDA\nDelta Protection Commission\nDate: Monday\, November 17\, 2025\nTime: 10:00 a.m.\nLocation: 1450 Halyard Drive\, Suite 6\, West Sacramento 95691 \nTo join the online Microsoft Teams meeting:\nJoin the meeting now\nMeeting ID: 290 067 710 572 2\nPasscode: nr27wm36 \nAdditional locations identified below \nNOTICE OF ADJOURNMENT/CONTINUANCE OF REGULAR MEETING\nAt its regular meeting on November 13\, 2025\, the Delta Protection Commission determined to adjourn its meeting and continue the meeting to November 17\, 2025\, at 10:00 am. \nThis adjournment/continuance of the November 13\, 2025\, regular meeting is made pursuant to Government Code sections 11128.5 and 11129. A copy of this notice is being posted at the November 13\, 2025\, meeting location within 24 hours of the original meeting adjournment and is also being posted online. \nMaterials for Nov. 13 meeting: \n\nMeeting packet – combined agenda and staff reports (PDF)\nItem 10 Attachment 2 (PDF)\nLetter to Commission from Delta Caucus of the Legislature (PDF)\n\nAGENDA\n\nCall to order and Flag Salute\nWelcome & Roll Call\nPublic Comment – an opportunity for members of the public to address the Commission regarding items not on the agenda\n(item 5 on Nov. 13 agenda) The Commission will meet in closed session to discuss potential litigation pursuant to Government Code\, Section 11126(e)(2)(B)\, (e)(2)(C).\n(Item 10 on Nov. 13 agenda) Consideration\, potential approval\, and direction to staff\, including any delegation as appropriate\, on Commission response to the Department of Water Resource’s Submittal of a Certification of Consistency for the Delta Conveyance Project to the Delta Stewardship Council on October 17\, 2025\, including four potential options:\n\na. Filing appeal with the Delta Stewardship Council; \nb. Submitting comments to the Delta Stewardship Council on any appeals filed by others; \nc. Filing appeal with Delta Stewardship Council and submitting comments to the Delta Stewardship Council on any appeals filed by others; \nd. Taking no action. \n–Virginia Gardiner\, Program Manager \n\nCommissioner Comments/Announcements\nAdjourn\n\nQuestions\, Comments\, and Requests\nIf you have any questions or have a request for reasonable modification or accommodation due to a disability\, please contact the Delta Protection Commission at dpc@delta.ca.gov or (916) 375-4800. Additional information can be found on the Delta Protection Commission website: delta.ca.gov. \nNotice of Remote Participation\nPursuant to Government Code section 11123\, the primary physical location of the meeting is 1450 Halyard Drive\, Suite 6\, West Sacramento\, CA\, 95691. The public may attend the meeting at this location in person.  Commission members will participate remotely in this meeting. The public will have the same level of remote participation access as Commission members. \nTeleconference locations\nTeleconference Location #1: 675 Texas St.\, Ste. 6500\, Fairfield\, CA 94533 \nTeleconference Location #2: 44 N San Joaquin St\, Ste. 627\, Stockton\, CA 95202 \nTeleconference Location #3: 215 W Oak St.\, Ste. 6\, Lodi\, CA 95240 \nTeleconference Location #4: 36721 Netherlands Rd.\, Clarksburg\, CA 95612 \nTeleconference Location #5: 700 H Street\, Ste. 2450\, Sacramento\, CA 95814 \nTeleconference Location #6: 702 Annemarie Way\, Isleton\, CA 95641 \nTeleconference Location #7: 5555 Zuckerman Rd.\, Stockton\, CA 95206 \nTeleconference Location #8: 500 Jefferson Blvd\, Building A\, Ste. C\, West Sacramento\, CA 95605 \nTeleconference Location #9: 1220 N Street\, Ste. 408\, Sacramento\, CA 95814 \nTeleconference Location #10: 7488 Shoreline Drive\, Stockton\, CA  95219 \nTeleconference Location #11: 3230 Main Street\, Oakley CA 94561 \nTeleconference Location #12: 1806 W. Kettleman Lane\, Ste. L\, Lodi CA 95242 \nDelta Protection Commission Members\nDiane Burgis\, Chair\, Contra Costa County Board of Supervisors | John Vasquez\, Vice Chair\, Solano County Board of Supervisors | Oscar Villegas\, Yolo County Board of Supervisors | Patrick Hume\, Sacramento County Board of Supervisors | Sonny Dhaliwal\, San Joaquin County Board of Supervisors | Anissa Williams\, Cities of Contra Costa and Solano counties | David Kent\, Cities of Sacramento and Yolo Counties | Cameron Bregman\, Cities of San Joaquin County | Jim Paroli\, Central Delta Reclamation Districts | Tom Slater\, North Delta Reclamation Districts | TBD\, South Delta Reclamation Districts | Toks Omishakin\, CA State Transportation Agency | Karen Ross\, CA Department of Food and Agriculture | Wade Crowfoot\, CA Natural Resources Agency | TBD\, CA State Lands Commission \nEX OFFICIO MEMBERS: Rhodesia Ransom\, California State Assembly | Jerry McNerney\, California State Senate \n  \n 
URL:https://delta.ca.gov/calendar/dpc-continuance-of-nov-13-meeting/
LOCATION:Delta Conservancy\, 1450 Halyard Drive\, Suite 6\, West Sacramento\, CA\, 95691\, United States
CATEGORIES:Delta Protection Commission Meetings
END:VEVENT
END:VCALENDAR