BEGIN:VCALENDAR
VERSION:2.0
PRODID:-//Delta Protection Commission - ECPv6.15.20//NONSGML v1.0//EN
CALSCALE:GREGORIAN
METHOD:PUBLISH
X-WR-CALNAME:Delta Protection Commission
X-ORIGINAL-URL:https://delta.ca.gov
X-WR-CALDESC:Events for Delta Protection Commission
REFRESH-INTERVAL;VALUE=DURATION:PT1H
X-Robots-Tag:noindex
X-PUBLISHED-TTL:PT1H
BEGIN:VTIMEZONE
TZID:America/Los_Angeles
BEGIN:DAYLIGHT
TZOFFSETFROM:-0800
TZOFFSETTO:-0700
TZNAME:PDT
DTSTART:20200308T100000
END:DAYLIGHT
BEGIN:STANDARD
TZOFFSETFROM:-0700
TZOFFSETTO:-0800
TZNAME:PST
DTSTART:20201101T090000
END:STANDARD
BEGIN:DAYLIGHT
TZOFFSETFROM:-0800
TZOFFSETTO:-0700
TZNAME:PDT
DTSTART:20210314T100000
END:DAYLIGHT
BEGIN:STANDARD
TZOFFSETFROM:-0700
TZOFFSETTO:-0800
TZNAME:PST
DTSTART:20211107T090000
END:STANDARD
BEGIN:DAYLIGHT
TZOFFSETFROM:-0800
TZOFFSETTO:-0700
TZNAME:PDT
DTSTART:20220313T100000
END:DAYLIGHT
BEGIN:STANDARD
TZOFFSETFROM:-0700
TZOFFSETTO:-0800
TZNAME:PST
DTSTART:20221106T090000
END:STANDARD
END:VTIMEZONE
BEGIN:VEVENT
DTSTART;TZID=America/Los_Angeles:20210624T180000
DTEND;TZID=America/Los_Angeles:20210624T193000
DTSTAMP:20260425T050808
CREATED:20210419T153954Z
LAST-MODIFIED:20210818T211347Z
UID:216732-1624557600-1624563000@delta.ca.gov
SUMMARY:Delta Marketing Workshop Series - In-person Marketing
DESCRIPTION:Are you a small business owner in the Delta and looking for easy\, low-cost ways to expand your marketing efforts? The Delta Protection Commission\, Sacramento-San Joaquin Delta Conservancy\, and Visit CA Delta invite you to a free\, four-part Delta Marketing Workshop Series to help your small business grow and thrive. We know that marketing your business on top of running the many other aspects of your business can feel like a daunting task\, and we would like to help you with simple\, step-by-step actions that you can take to share your products and services with your customers. \nThe third workshop will focus on in-person marketing – why it’s important\, location beautification\, signage\, repeat customer cards\, add-on offerings\, and more! \n\n\nPlease join us on Thursday\, June 24\, 2021 from 6:00 PM to 7:30 PM via Zoom for this free and informative session. There will be plenty of time for questions! \n\n\nFull Workshop Series: \n\n\nApril 29\, 2021 – Websites (Workshop recording available)\nMay 27\, 2021 – Social media (Workshop recording available)\nJune 24\, 2021 – In-person marketing (Workshop recording coming soon)\nJuly 29\, 2021 – Mixed Bag (Workshop recording available)
URL:https://delta.ca.gov/calendar/marketing-workshop-3/
LOCATION:Virtual
CATEGORIES:Other Delta Related Agency Meetings
ORGANIZER;CN="Delta Protection Commission":MAILTO:dpc@delta.ca.gov
END:VEVENT
BEGIN:VEVENT
DTSTART;TZID=America/Los_Angeles:20210629T170000
DTEND;TZID=America/Los_Angeles:20210629T170000
DTSTAMP:20260425T050808
CREATED:20210618T203935Z
LAST-MODIFIED:20231024T235129Z
UID:216911-1624986000-1624986000@delta.ca.gov
SUMMARY:Delta Protection Advisory Committee (DPAC) Meeting
DESCRIPTION:The DPAC meeting agenda includes: \n1. Call to Order/Flag Salute/Welcome – Mark Pruner\, DPAC Chair \n2. Receive and discuss report on Delta Conveyance Design and Construction Authority Stakeholder\nEngagement Committee – Lindsey Liebig\, DPAC and DCA-SEC member (10 mins.) \n3. Receive and discuss proposed edits to Vision 2030 (Commission strategic plan) – Erik Vink (50 mins.) \n4. Receive update on Delta Protection Commission Activities – Erik Vink (15 mins.) \n5. Discuss format of future DPAC meetings (in-person or in-person/online option) – Mark Pruner\, DPAC\nChair \n6. Member Announcements and Adjourn \nJoin by Zoom Meeting \nMeeting ID: 848 796 10674\nPassword: 113311 \nor phone:\nPhone number: 1 888 363 4734 (US Toll Free)\nAccess Code: 388754 (press # after entering code)
URL:https://delta.ca.gov/calendar/delta-protection-advisory-committee-dpac-meeting-2/
LOCATION:Virtual
CATEGORIES:Other Delta Related Agency Meetings
ORGANIZER;CN="Delta Protection Commission":MAILTO:dpc@delta.ca.gov
END:VEVENT
END:VCALENDAR