BEGIN:VCALENDAR
VERSION:2.0
PRODID:-//Delta Protection Commission - ECPv6.15.20//NONSGML v1.0//EN
CALSCALE:GREGORIAN
METHOD:PUBLISH
X-WR-CALNAME:Delta Protection Commission
X-ORIGINAL-URL:https://delta.ca.gov
X-WR-CALDESC:Events for Delta Protection Commission
REFRESH-INTERVAL;VALUE=DURATION:PT1H
X-Robots-Tag:noindex
X-PUBLISHED-TTL:PT1H
BEGIN:VTIMEZONE
TZID:America/Los_Angeles
BEGIN:DAYLIGHT
TZOFFSETFROM:-0800
TZOFFSETTO:-0700
TZNAME:PDT
DTSTART:20200308T100000
END:DAYLIGHT
BEGIN:STANDARD
TZOFFSETFROM:-0700
TZOFFSETTO:-0800
TZNAME:PST
DTSTART:20201101T090000
END:STANDARD
BEGIN:DAYLIGHT
TZOFFSETFROM:-0800
TZOFFSETTO:-0700
TZNAME:PDT
DTSTART:20210314T100000
END:DAYLIGHT
BEGIN:STANDARD
TZOFFSETFROM:-0700
TZOFFSETTO:-0800
TZNAME:PST
DTSTART:20211107T090000
END:STANDARD
BEGIN:DAYLIGHT
TZOFFSETFROM:-0800
TZOFFSETTO:-0700
TZNAME:PDT
DTSTART:20220313T100000
END:DAYLIGHT
BEGIN:STANDARD
TZOFFSETFROM:-0700
TZOFFSETTO:-0800
TZNAME:PST
DTSTART:20221106T090000
END:STANDARD
END:VTIMEZONE
BEGIN:VEVENT
DTSTART;TZID=America/Los_Angeles:20210907T170000
DTEND;TZID=America/Los_Angeles:20210907T170000
DTSTAMP:20260425T193439
CREATED:20210901T174404Z
LAST-MODIFIED:20231024T195218Z
UID:217071-1631034000-1631034000@delta.ca.gov
SUMMARY:Delta Protection Advisory Committee (DPAC) Meeting
DESCRIPTION:The DPAC meeting agenda includes: \n1. Call to Order/Flag Salute/Welcome – Mark Pruner\, DPAC Chair \n2. Public Comment – an opportunity for members of the public to address the Committee regarding items not on the agenda \n3. Receive report on recent Delta Stewardship Council (DSC) activities – Ryan Stanbra\, Delta Stewardship Council (25 mins.) \n4. Receive update on proposed Delta Cross Channel improvement project – Colin Maloney\, U.S. Bureau of Reclamation (20 minutes) \n5. Receive update on Delta Protection Commission activities – Erik Vink (20 mins.) \n6. Member Announcements and Adjourn \nRemote meeting via Zoom \nZoom link\nMeeting ID: 841 618 18854\nPassword: 118811 \nor \nPhone number: 888 363 4734 (US Toll Free)\nAccess Code: 388754 (press # after entering code)
URL:https://delta.ca.gov/calendar/dpac-meeting-september-2021/
LOCATION:Virtual
CATEGORIES:Other Delta Related Agency Meetings
ORGANIZER;CN="Delta Protection Commission":MAILTO:dpc@delta.ca.gov
END:VEVENT
BEGIN:VEVENT
DTSTART;TZID=America/Los_Angeles:20210909T153000
DTEND;TZID=America/Los_Angeles:20210909T170000
DTSTAMP:20260425T193439
CREATED:20210816T182137Z
LAST-MODIFIED:20220301T174708Z
UID:217036-1631201400-1631206800@delta.ca.gov
SUMMARY:Sacramento-San Joaquin Delta National Heritage Area Management Plan Advisory Committee Meeting
DESCRIPTION:The Sacramento-San Joaquin Delta National Heritage Area Management Plan Advisory Committee will be meeting virtually on Thursday\, September 9\, 2021 from 3:00 PM to 5:00 PM. The agenda includes updates on the NHA Advisory Task Groups\, the public workshops\, and the Partnership Plan. For more information\, visit the National Heritage Area webpage. \n  \nZoom Link\nMeeting ID 850 2041 2051\nPassword: 114411 \nPhone number: 888 363 4734 (US Toll Free)\nAccess Code: 388754 (press # after entering code)
URL:https://delta.ca.gov/calendar/nha-meeting-sep21/
LOCATION:Virtual
CATEGORIES:Other Delta Related Agency Meetings
ORGANIZER;CN="Delta Protection Commission":MAILTO:dpc@delta.ca.gov
END:VEVENT
BEGIN:VEVENT
DTSTART;TZID=America/Los_Angeles:20210916T160000
DTEND;TZID=America/Los_Angeles:20210916T180000
DTSTAMP:20260425T193439
CREATED:20201201T190439Z
LAST-MODIFIED:20231024T200302Z
UID:216322-1631808000-1631815200@delta.ca.gov
SUMMARY:Delta Protection Commission Meeting
DESCRIPTION:Administrative Agenda\n1. Call to order and Flag Salute \n2. Welcome & Roll Call \n3. Public Comment – an opportunity for members of the public to address the Commission regarding items not on the Agenda \n4. Report on Delta Stewardship Council activities – Chair Don Nottoli \n5. Commissioner comments/announcements \nConsent Agenda\n6. Consider approval of July 15\, 2021 meeting minutes (PDF) and the August 5\, 2021 meeting minutes (PDF) \nRegular Agenda\n7. Receive Executive Director report – Erik Vink\nItem 7: Executive Director Report (PDF) \n8. Receive Delta Protection Advisory Committee report – Mark Pruner\, DPAC Chair\nItem 8: Staff Report (PDF) \n9. Receive report from Delta Stewardship Council and Sacramento-San Joaquin Delta Conservancy on recent activities – Jessica Pearson\, Delta Stewardship Council; Campbell Ingram\, Sacramento-San Joaquin Delta Conservancy\nItem 9: Staff Report (PDF) \n10. Receive report on 2021 Delta Flood Preparedness activities and consider approval of Delta Flood Preparedness Week resolution – Stacy Hayden\nItem 10: Staff Report (PDF)\nItem 10: Resolution 21-01 – Delta Flood Preparedness Week (PDF) \n11. Closed Session\nA. Convene in Closed Session – The Delta Protection Commission will meet in Closed Session pursuant to Government Code Section 11126(a)(1) to evaluate the performance of the Executive Director.\nB. Report Out of Closed Session \n12. Adjourn
URL:https://delta.ca.gov/calendar/delta-protection-commission-meeting-091621/
LOCATION:Remote Meeting via Zoom
CATEGORIES:Delta Protection Commission Meetings
ORGANIZER;CN="Delta Protection Commission":MAILTO:dpc@delta.ca.gov
END:VEVENT
BEGIN:VEVENT
DTSTART;TZID=America/Los_Angeles:20210917T120000
DTEND;TZID=America/Los_Angeles:20210917T133000
DTSTAMP:20260425T193439
CREATED:20210913T202713Z
LAST-MODIFIED:20231024T182552Z
UID:217113-1631880000-1631885400@delta.ca.gov
SUMMARY:Great Delta Trail Master Plan Stakeholder Advisory Committee and Technical Advisory Committee Meeting
DESCRIPTION:The Stakeholder Advisory Committee and Technical Advisory Committee will be meeting to discuss the Great Delta Trail Master Plan\, including a recent Levee Manager Survey. \nFriday\, September 17\, 2021\nNoon to 1:30 PM \nJoin by Zoom Meeting\nMeeting ID: 936 7293 7251 \nor phone: 1-669-900-9128
URL:https://delta.ca.gov/calendar/great-delta-trail-master-plan-stakeholder-advisory-committee-and-technical-advisory-committee-meeting/
LOCATION:Virtual
CATEGORIES:Other Delta Related Agency Meetings
END:VEVENT
BEGIN:VEVENT
DTSTART;TZID=America/Los_Angeles:20210918T090000
DTEND;TZID=America/Los_Angeles:20210918T120000
DTSTAMP:20260425T193439
CREATED:20210816T182442Z
LAST-MODIFIED:20210816T182443Z
UID:217040-1631955600-1631966400@delta.ca.gov
SUMMARY:Delta Waterway Cleanup
DESCRIPTION:The Delta Waterway Cleanup\, part of California Coastal Cleanup Day\, is Saturday\, September 18\, 2021. Cleaning neighborhoods\, parks\, street gutters\, and waterways helps to protect not only the Delta but also our oceans\, as trash travels through storm drains\, creeks\, and rivers both locally and out to the coastline and beyond. \nReady to make a difference? Visit www.delta.ca.gov/cleanup
URL:https://delta.ca.gov/calendar/delta-waterway-cleanup/
CATEGORIES:Other Delta Related Agency Meetings
ORGANIZER;CN="Delta Protection Commission":MAILTO:dpc@delta.ca.gov
END:VEVENT
END:VCALENDAR