BEGIN:VCALENDAR
VERSION:2.0
PRODID:-//Delta Protection Commission - ECPv6.15.20//NONSGML v1.0//EN
CALSCALE:GREGORIAN
METHOD:PUBLISH
X-WR-CALNAME:Delta Protection Commission
X-ORIGINAL-URL:https://delta.ca.gov
X-WR-CALDESC:Events for Delta Protection Commission
REFRESH-INTERVAL;VALUE=DURATION:PT1H
X-Robots-Tag:noindex
X-PUBLISHED-TTL:PT1H
BEGIN:VTIMEZONE
TZID:America/Los_Angeles
BEGIN:DAYLIGHT
TZOFFSETFROM:-0800
TZOFFSETTO:-0700
TZNAME:PDT
DTSTART:20210314T100000
END:DAYLIGHT
BEGIN:STANDARD
TZOFFSETFROM:-0700
TZOFFSETTO:-0800
TZNAME:PST
DTSTART:20211107T090000
END:STANDARD
BEGIN:DAYLIGHT
TZOFFSETFROM:-0800
TZOFFSETTO:-0700
TZNAME:PDT
DTSTART:20220313T100000
END:DAYLIGHT
BEGIN:STANDARD
TZOFFSETFROM:-0700
TZOFFSETTO:-0800
TZNAME:PST
DTSTART:20221106T090000
END:STANDARD
BEGIN:DAYLIGHT
TZOFFSETFROM:-0800
TZOFFSETTO:-0700
TZNAME:PDT
DTSTART:20230312T100000
END:DAYLIGHT
BEGIN:STANDARD
TZOFFSETFROM:-0700
TZOFFSETTO:-0800
TZNAME:PST
DTSTART:20231105T090000
END:STANDARD
END:VTIMEZONE
BEGIN:VEVENT
DTSTART;TZID=America/Los_Angeles:20220104T170000
DTEND;TZID=America/Los_Angeles:20220104T190000
DTSTAMP:20260424T172516
CREATED:20211223T192134Z
LAST-MODIFIED:20211223T192203Z
UID:217317-1641315600-1641322800@delta.ca.gov
SUMMARY:Delta Protection Advisory Committee (DPAC) Meeting
DESCRIPTION:The DPAC meeting agenda includes: \n1. Call to Order/Flag Salute/Welcome – Mark Pruner\, DPAC Chair \n2. Public Comment – an opportunity for members of the public to address the Committee regarding items not on the agenda \n3. Election of 2022 DPAC Chair and Vice-Chair – Mark Pruner (10 min.) \n4. Receive update on proposed “Delta as Place” survey of Delta residents – Dr. Jessica Rudnick and Lita Brydie\, Delta Stewardship Council (15 min.) \n5. Receive report on State Lands Commission effort to remove abandoned and derelict vessels ($12 million in FY 2021-22 budget) – Speaker to be determined\, State Lands Commission \n6. Receive and discuss report on Delta Conveyance Design and Construction Authority Stakeholder Engagement Committee – Douglas Hsia\, DPAC and DCA-SEC member (10 mins.) \n7. Receive update on Delta Protection Commission activities – Erik Vink (20 mins.) \n8. Member Announcements and Adjourn \nThe January meeting agenda (PDF) is available. \nRemote meeting via Zoom \nZoom link\nMeeting ID: 847 667 90035\nPassword: 224422 \nor \nPhone number: 888 363 4734 (US Toll Free)\nAccess Code: 388754 (press # after entering code)
URL:https://delta.ca.gov/calendar/dpac-meeting-january-2022/
LOCATION:Virtual
CATEGORIES:Other Delta Related Agency Meetings
ORGANIZER;CN="Delta Protection Commission":MAILTO:dpc@delta.ca.gov
END:VEVENT
BEGIN:VEVENT
DTSTART;TZID=America/Los_Angeles:20220120T160000
DTEND;TZID=America/Los_Angeles:20220120T160000
DTSTAMP:20260424T172516
CREATED:20211216T170257Z
LAST-MODIFIED:20250327T235303Z
UID:217293-1642694400-1642694400@delta.ca.gov
SUMMARY:Delta Protection Commission Meeting
DESCRIPTION:Administrative Agenda\n1. Call to order and Flag Salute \n2. Welcome & Roll Call \n3. Public Comment – an opportunity for members of the public to address the Commission regarding items not on the Agenda \n4. Report on Delta Stewardship Council activities – Chair Don Nottoli \n5. Commissioner comments/announcements \nConsent Agenda\n6. Consider approval of November 18\, 2021 meeting minutes (PDF) \nRegular Agenda\n7. Receive Executive Director report – Erik Vink \n8. Receive Delta Protection Advisory Committee report – Mark Pruner (Outgoing DPAC Chair) and Mariah Looney (DPAC Chair) \n9. Receive report on California State Lands Commission Abandoned Commercial Vessel Removal Plan efforts – Vicki Caldwell\, State Lands Commission \n10. Consider approval of Great California Delta Trail Master Plan – Virginia Gardiner and Sofia Zander\, TrailPeople \n11. Receive report on Delta Drought Response Pilot Program – Campbell Ingram\, Sacramento-San Joaquin Delta Conservancy \n12. Consider approval of Delta Protection Commission 2021 Annual Report – Erik Vink \n13. Receive report on Delta National Heritage Area 2022 activities – Dr. Blake Roberts \n14. Consider approval of a comment letter on the Delta Stewardship Council’s draft regulations governing appeals of covered actions under the Delta Plan – Erik Vink \n15. Adjourn
URL:https://delta.ca.gov/calendar/commission-meeting-january-2022/
LOCATION:Virtual
CATEGORIES:Delta Protection Commission Meetings
ORGANIZER;CN="Delta Protection Commission":MAILTO:dpc@delta.ca.gov
END:VEVENT
END:VCALENDAR