BEGIN:VCALENDAR
VERSION:2.0
PRODID:-//Delta Protection Commission - ECPv6.15.20//NONSGML v1.0//EN
CALSCALE:GREGORIAN
METHOD:PUBLISH
X-WR-CALNAME:Delta Protection Commission
X-ORIGINAL-URL:https://delta.ca.gov
X-WR-CALDESC:Events for Delta Protection Commission
REFRESH-INTERVAL;VALUE=DURATION:PT1H
X-Robots-Tag:noindex
X-PUBLISHED-TTL:PT1H
BEGIN:VTIMEZONE
TZID:America/Los_Angeles
BEGIN:DAYLIGHT
TZOFFSETFROM:-0800
TZOFFSETTO:-0700
TZNAME:PDT
DTSTART:20210314T100000
END:DAYLIGHT
BEGIN:STANDARD
TZOFFSETFROM:-0700
TZOFFSETTO:-0800
TZNAME:PST
DTSTART:20211107T090000
END:STANDARD
BEGIN:DAYLIGHT
TZOFFSETFROM:-0800
TZOFFSETTO:-0700
TZNAME:PDT
DTSTART:20220313T100000
END:DAYLIGHT
BEGIN:STANDARD
TZOFFSETFROM:-0700
TZOFFSETTO:-0800
TZNAME:PST
DTSTART:20221106T090000
END:STANDARD
BEGIN:DAYLIGHT
TZOFFSETFROM:-0800
TZOFFSETTO:-0700
TZNAME:PDT
DTSTART:20230312T100000
END:DAYLIGHT
BEGIN:STANDARD
TZOFFSETFROM:-0700
TZOFFSETTO:-0800
TZNAME:PST
DTSTART:20231105T090000
END:STANDARD
END:VTIMEZONE
BEGIN:VEVENT
DTSTART;TZID=America/Los_Angeles:20220721T170000
DTEND;TZID=America/Los_Angeles:20220721T170000
DTSTAMP:20260424T061543
CREATED:20211216T175826Z
LAST-MODIFIED:20240920T225648Z
UID:217300-1658422800-1658422800@delta.ca.gov
SUMMARY:Delta Protection Commission Meeting
DESCRIPTION:Administrative Agenda\n1. Call to order and Flag Salute \n2. Welcome & Roll Call \n3. Public Comment – an opportunity for members of the public to address the Commission regarding items not on the Agenda \n4. Report on Delta Stewardship Council activities – Chair Don Nottoli \n5. Commissioner comments/announcements \nConsent Agenda\n6. Consider approval of May 19\, 2022 meeting minutes \nRegular Agenda\n7. Receive Executive Director Report – Erik Vink \n8. Receive Delta Protection Advisory Committee (DPAC) report –Mariah Looney (DPAC Chair) \n9. Consider approval of job offer to Executive Director designee – Chair Don Nottoli \n10. Receive report on Federal Emergency Management Agency (FEMA) flood zone reclassification and consider Commission letter to FEMA requesting Delta region Flood Insurance Rate Map (FIRM) reclassification and establishment of a Delta region local levee task force – Kathleen Schaefer\, UC Davis Department of Civil Engineering \n11. Receive update on Delta National Heritage Area Management Plan development – Dr. Blake Roberts \n12. Adjourn
URL:https://delta.ca.gov/calendar/commission-meeting-july-2022/
LOCATION:Remote Meeting via Zoom
CATEGORIES:Delta Protection Commission Meetings
ORGANIZER;CN="Delta Protection Commission":MAILTO:dpc@delta.ca.gov
END:VEVENT
END:VCALENDAR