BEGIN:VCALENDAR
VERSION:2.0
PRODID:-//Delta Protection Commission - ECPv6.15.20//NONSGML v1.0//EN
CALSCALE:GREGORIAN
METHOD:PUBLISH
X-ORIGINAL-URL:https://delta.ca.gov
X-WR-CALDESC:Events for Delta Protection Commission
REFRESH-INTERVAL;VALUE=DURATION:PT1H
X-Robots-Tag:noindex
X-PUBLISHED-TTL:PT1H
BEGIN:VTIMEZONE
TZID:America/Los_Angeles
BEGIN:DAYLIGHT
TZOFFSETFROM:-0800
TZOFFSETTO:-0700
TZNAME:PDT
DTSTART:20220313T100000
END:DAYLIGHT
BEGIN:STANDARD
TZOFFSETFROM:-0700
TZOFFSETTO:-0800
TZNAME:PST
DTSTART:20221106T090000
END:STANDARD
BEGIN:DAYLIGHT
TZOFFSETFROM:-0800
TZOFFSETTO:-0700
TZNAME:PDT
DTSTART:20230312T100000
END:DAYLIGHT
BEGIN:STANDARD
TZOFFSETFROM:-0700
TZOFFSETTO:-0800
TZNAME:PST
DTSTART:20231105T090000
END:STANDARD
BEGIN:DAYLIGHT
TZOFFSETFROM:-0800
TZOFFSETTO:-0700
TZNAME:PDT
DTSTART:20240310T100000
END:DAYLIGHT
BEGIN:STANDARD
TZOFFSETFROM:-0700
TZOFFSETTO:-0800
TZNAME:PST
DTSTART:20241103T090000
END:STANDARD
END:VTIMEZONE
BEGIN:VEVENT
DTSTART;TZID=America/Los_Angeles:20230309T170000
DTEND;TZID=America/Los_Angeles:20230309T193000
DTSTAMP:20260423T160127
CREATED:20221123T233941Z
LAST-MODIFIED:20250424T181956Z
UID:217972-1678381200-1678390200@delta.ca.gov
SUMMARY:Delta Protection Commission Meeting
DESCRIPTION:Administrative Agenda\n1. Call to order and Flag Salute \n2. Welcome & Roll Call \n3. Public Comment – an opportunity for members of the public to address the Commission regarding items not on the Agenda \n4. Report on Delta Stewardship Council Activities – Chair Diane Burgis \n5. Commissioner Comments/Announcements \n6. Special Recognition of Former Chair Don Nottoli – Chair Diane Burgis \nConsent Agenda\n7. Consider Approval of the Draft January 19\, 2023 Meeting Minutes \nRegular Agenda\n8. Receive Executive Director Report – Bruce Blodgett\, Executive Director \n9. Receive Delta as Place Report – Jean Yokotobi \n10. Receive Delta Protection Advisory Committee (DPAC) Report – Mariah Looney (DPAC Chair) \n11. Receive Draft Comment Letter on the Delta Conveyance Project Draft Environmental\nImpact Statement (EIS) – Virginia Gardiner\, Program Manager \n12. Receive Draft Survey of Cultural Resources in the Delta Conveyance Project Area for\nSubmittal with Draft EIS Comment Letter – Virginia Gardiner\, Program Manager \n13. Adjourn
URL:https://delta.ca.gov/calendar/delta-protection-commission-meeting-3/
LOCATION:Peter’s Steakhouse\, 203 2nd Street\, Isleton\, CA\, 95641\, United States
CATEGORIES:Delta Protection Commission Meetings
END:VEVENT
END:VCALENDAR