BEGIN:VCALENDAR
VERSION:2.0
PRODID:-//Delta Protection Commission - ECPv6.15.20//NONSGML v1.0//EN
CALSCALE:GREGORIAN
METHOD:PUBLISH
X-WR-CALNAME:Delta Protection Commission
X-ORIGINAL-URL:https://delta.ca.gov
X-WR-CALDESC:Events for Delta Protection Commission
REFRESH-INTERVAL;VALUE=DURATION:PT1H
X-Robots-Tag:noindex
X-PUBLISHED-TTL:PT1H
BEGIN:VTIMEZONE
TZID:America/Los_Angeles
BEGIN:DAYLIGHT
TZOFFSETFROM:-0800
TZOFFSETTO:-0700
TZNAME:PDT
DTSTART:20220313T100000
END:DAYLIGHT
BEGIN:STANDARD
TZOFFSETFROM:-0700
TZOFFSETTO:-0800
TZNAME:PST
DTSTART:20221106T090000
END:STANDARD
BEGIN:DAYLIGHT
TZOFFSETFROM:-0800
TZOFFSETTO:-0700
TZNAME:PDT
DTSTART:20230312T100000
END:DAYLIGHT
BEGIN:STANDARD
TZOFFSETFROM:-0700
TZOFFSETTO:-0800
TZNAME:PST
DTSTART:20231105T090000
END:STANDARD
BEGIN:DAYLIGHT
TZOFFSETFROM:-0800
TZOFFSETTO:-0700
TZNAME:PDT
DTSTART:20240310T100000
END:DAYLIGHT
BEGIN:STANDARD
TZOFFSETFROM:-0700
TZOFFSETTO:-0800
TZNAME:PST
DTSTART:20241103T090000
END:STANDARD
END:VTIMEZONE
BEGIN:VEVENT
DTSTART;TZID=America/Los_Angeles:20230518T160000
DTEND;TZID=America/Los_Angeles:20230518T193000
DTSTAMP:20260423T123731
CREATED:20221123T234058Z
LAST-MODIFIED:20250327T234855Z
UID:217975-1684425600-1684438200@delta.ca.gov
SUMMARY:Delta Protection Commission Meeting
DESCRIPTION:Administrative Agenda\n1. Tour of Big Break facilities (4:00 to 5:00 approximately) \n2. Call to order and Flag Salute \n3. Welcome & Roll Call \n4. Public Comment – an opportunity for members of the public to address the Commission\nregarding items not on the agenda \n5. Report on Delta Stewardship Council Activities – Chair Diane Burgis \n6. Commissioner Comments/Announcements \nConsent Agenda\n7. Consider Approval of the March 9\, 2023 Meeting Minutes (PDF) \n8. Consider Approval of DPAC members for 2023-2026 \nItem 8. Staff Report (PDF) \nRegular Agenda\n9. Receive Executive Director Report – Bruce Blodgett\, Executive Director \nItem 9a. Executive Director Report \nItem 9b. May 2023 Budget Update \n10. Receive Delta as Place Report \n10a. Delta Leadership Program presentation – Lisa Beutler and DLP participants \n10a. Staff Report \n10b. Delta Watermaster – Jay Ziegler \n11. Receive Delta Protection Advisory Committee (DPAC) Report – Anna Swenson (DPAC\nChair) \nVerbal update only\, no staff report or materials \n12. Adjourn
URL:https://delta.ca.gov/calendar/delta-protection-commission-meeting-4/
CATEGORIES:Delta Protection Commission Meetings
END:VEVENT
END:VCALENDAR