BEGIN:VCALENDAR
VERSION:2.0
PRODID:-//Delta Protection Commission - ECPv6.15.20//NONSGML v1.0//EN
CALSCALE:GREGORIAN
METHOD:PUBLISH
X-ORIGINAL-URL:https://delta.ca.gov
X-WR-CALDESC:Events for Delta Protection Commission
REFRESH-INTERVAL;VALUE=DURATION:PT1H
X-Robots-Tag:noindex
X-PUBLISHED-TTL:PT1H
BEGIN:VTIMEZONE
TZID:America/Los_Angeles
BEGIN:DAYLIGHT
TZOFFSETFROM:-0800
TZOFFSETTO:-0700
TZNAME:PDT
DTSTART:20220313T100000
END:DAYLIGHT
BEGIN:STANDARD
TZOFFSETFROM:-0700
TZOFFSETTO:-0800
TZNAME:PST
DTSTART:20221106T090000
END:STANDARD
BEGIN:DAYLIGHT
TZOFFSETFROM:-0800
TZOFFSETTO:-0700
TZNAME:PDT
DTSTART:20230312T100000
END:DAYLIGHT
BEGIN:STANDARD
TZOFFSETFROM:-0700
TZOFFSETTO:-0800
TZNAME:PST
DTSTART:20231105T090000
END:STANDARD
BEGIN:DAYLIGHT
TZOFFSETFROM:-0800
TZOFFSETTO:-0700
TZNAME:PDT
DTSTART:20240310T100000
END:DAYLIGHT
BEGIN:STANDARD
TZOFFSETFROM:-0700
TZOFFSETTO:-0800
TZNAME:PST
DTSTART:20241103T090000
END:STANDARD
END:VTIMEZONE
BEGIN:VEVENT
DTSTART;TZID=America/Los_Angeles:20231207T150000
DTEND;TZID=America/Los_Angeles:20231207T170000
DTSTAMP:20260421T052110
CREATED:20231020T171829Z
LAST-MODIFIED:20231207T003433Z
UID:218656-1701961200-1701968400@delta.ca.gov
SUMMARY:Delta National Heritage Area Management Plan Advisory Committee
DESCRIPTION:The Delta Protection Commission is the entity responsible for preparing a management plan for the Sacramento-San Joaquin Delta National Heritage Area\, which was created by Congress in 2019 (PDF). To advance that goal\, the Commission created a 15-member volunteer NHA Management Plan Advisory Committee – read its charter (PDF) – to develop the plan. \nThe NHA Committee is scheduled to meet every month until the management plan is approved by the Secretary of the Interior. The location of the December meeting and the agenda will be posted here at least 10 days in advance. \nMaterials: The following are chapters of the administrative review draft of the Sacramento-San Joaquin Delta National Heritage Area Management Plan – all are Word documents that will auto-download: \n\nChapter 1\nChapter 2\nChapter 3\nChapter 4\nChapter 5\nChapter 6\nChapter 7\n\nPUBLIC NOTICE AND MEETING AGENDA\nNational Heritage Area Management Plan Advisory Committee\nThursday\, December 7\, 2023\, 3 p.m. \nSacramento-San Joaquin Delta Conservancy Conference Room\n1450 Halyard Drive\, Suite 6\, West Sacramento \nAdditional teleconference locations: \n\nNew! Big Break Regional Shoreline Visitor Center\, 69 Big Break Road\, Oakley\nIsleton Chamber of Commerce\, 23 Main Street\, Isleton\n\nUPDATE: One teleconference location originally listed – the East Contra Costa Historical Museum Resource Center in Brentwood – is NOT available. The deletion of this teleconference location and the addition above of the Big Break Regional Shoreline location are the only changes that have been made to this agenda since its original posting. \nWebcast via Zoom\nAccess via computer or iOS/Android phone: \nMeeting URL: https://us06web.zoom.us/j/81280616306?pwd=0aakEZIjXaLpOUJFpcEcBjBQqbEcAL.1 \nPassword: 303907 \nAccess by telephone: \nPhone number: (404) 443-6397\, or toll-free (877) 336-1831 \nConference Code: 5220885 \nAgenda\n\nCall to Order – Elizabeth Patterson\, NHA Advisory Committee Vice Chair\nPublic Comment – An opportunity for members of the public to address the NHA Advisory Committee regarding items not on the Agenda\nNHA Advisory Committee Member Updates (10 mins.)\nRevisions to Bagley-Keene Open Meeting Act – Blake Roberts\, Delta Protection Commission (10 mins.)\nAdministrative Draft Management Plan – Nancy Morgan\, Point Heritage Development Consulting (PointHDC) and Blake Roberts\, Delta Protection Commission (30 mins.)\nLetters of Support and Commitment for Management Plan – Nancy Morgan\, PointHDC and Blake Roberts\, Delta Protection Commission (15 mins.)\nRequest for Management Plan Images – Blake Roberts\, Delta Protection Commission (5 mins.)\nMember Announcements and Adjourn\n\nThe agenda items listed above may be considered in a different order at the Committee meeting\, subject to the discretion of the Chair. At the discretion of the Committee\, all items appearing on this agenda\, whether or not expressly listed for action\, may be deliberated upon and may be subject to action. The Committee welcomes and encourages participation in its meetings. The Committee limits testimony to not more than three minutes per person\, or more time at the discretion of the Chair. \nQuestions\, Comments\, and Requests\nIf you have any questions or have a request for reasonable modification or accommodation due to a disability\, please contact the Delta Protection Commission at dpc@delta.ca.gov or (916) 375-4800. \nComments submitted to submit@delta.ca.gov by noon on December 6\, 2023\, will be shared with Committee members prior to the meeting to the extent possible. Public comments on each agenda item will follow the order of: 1) emailed comments\, 2) those verbally requesting to make comments after notice offered by Chair during meeting. \nNational Heritage Area Advisory Committee Members\nChair Bruce Blodgett | Vice Chair Elizabeth Patterson | Michael Campbell | Lenora Clark | Paulette Hennum | Matt Holmes | Douglas Hsia | Carol Jensen | Janet Lake | Gia Moreno | David Stuart | Malissa Tayaba | Jan Vick | Dan Whaley | Jean Yokotobi \nEX OFFICIO MEMBERS: Karen Buhr\, Sacramento-San Joaquin Delta Conservancy | Herbert “Lou” Griffin\, Wilton Rancheria | Jeff Henderson\, Delta Stewardship Council | Matthew Moore\, United Auburn Indian Community | Michael Moran\, East Bay Regional Park District | Trevor Rice\, National Park Service | John Takekawa\, Suisun Resource Conservation District. Other public agency representatives may also participate as ex-officio members.
URL:https://delta.ca.gov/calendar/delta-national-heritage-area-management-plan-advisory-committee-2023-12-07/
LOCATION:Delta Conservancy\, 1450 Halyard Drive\, Suite 6\, West Sacramento\, CA\, 95691\, United States
CATEGORIES:Delta Protection Commission Meetings
END:VEVENT
BEGIN:VEVENT
DTSTART;TZID=America/Los_Angeles:20231219T173000
DTEND;TZID=America/Los_Angeles:20231219T193000
DTSTAMP:20260421T052110
CREATED:20231028T002813Z
LAST-MODIFIED:20231220T190203Z
UID:218815-1703007000-1703014200@delta.ca.gov
SUMMARY:Delta Protection Advisory Committee Meeting
DESCRIPTION:RESCHEDULED: Date has changed from Dec. 12 to Dec. 19. \nThe Delta Protection Advisory Committee (DPAC) provides recommendations to the Delta Protection Commission on diverse interests within the Delta\, including the Delta’s ecosystem\, water supply\, socioeconomic sustainability\, recreation\, agriculture\, flood control\, environment\, water resources\, utility infrastructure\, and other Delta issues. This fifteen-member committee is appointed by the Commission and meets regularly; members serve three-year terms and may be re-appointed. Meetings are open to the public and everyone’s input is welcome. The Committee was created by the Delta Protection Act\, Public Resources Code Section 29753(a). This is its Charter (PDF). \nMeeting materials: Draft minutes of Oct. 10\, 2023\, meeting (PDF) \nPUBLIC NOTICE AND MEETING AGENDA\nDelta Protection Advisory Committee\nTuesday\, December 19\, 2023\, 5:30 p.m.\nSteamboat Bar and Grill\n12414 CA 160\, Courtland 95615 \nAgenda\n\nCall to Order/Flag Salute – Anna Swenson\, DPAC Chair\nWelcome and Roll Call\nPublic Comment – An opportunity for members of the public to address the Committee regarding items not on the agenda\nApproval of October 10\, 2023\, Meeting Minutes – The Committee\nUpdate on Delta Protection Commission activities – Bruce Blodgett\nUpdate on the status of the Delta Conveyance EIR – Osha Meserve\nUpdate on levee subvention funding – Emily Papalardo\nPresentation on Broadband in the Delta – Russ Ryan\nUpdate on the status of the NHA management plan – Blake Roberts\nMember Announcements and Next Meeting\nAdjourn\n\nThe agenda items listed above may be considered in a different order at the Committee meeting\, subject to the discretion of the Chair. At the discretion of the Committee\, all items appearing on this agenda\, whether expressly listed for action\, may be deliberated upon and may be subject to action. The Committee welcomes and encourages participation in its meetings. The Committee limits testimony to not more than three minutes per person\, or more time at the discretion of the Chair. \nQuestions\, Comments\, and Requests\nIf you have any questions or have a request for reasonable modification or accommodation due to a disability\, please contact the Delta Protection Commission at dpc@delta.ca.gov or (916) 375-4800. \nComments submitted to submit@delta.ca.gov by noon on December 18\, 2023\, will be shared with Commissioners prior to the meeting to the extent possible. Public comments on each agenda item will follow the order of: 1) emailed comments\, 2) those verbally requesting to make comments after notice offered by Chair during meeting. \nDelta Protection Advisory Committee Members\nChair Anna Swenson (Delta general public) | Vice-Chair Russ Ryan (Delta water exporter) | Robyn Brown and Arron Pellarin (Delta business) | Craig Watanabe and Gary Mello (Delta agriculture) | Todd Bruce and Morris Lum (Delta recreation) | Edward Hard and Erin Chappell (State agency) | Chris Elias (Delta flood entity) | Mariah Looney (Delta organization) | Jim Cox (Delta habitat/conservation non-governmental entity) | Sam Garcia (Delta utility/related infrastructure) | Douglas Hsia (Delta Cultural Preservation). \nEX OFFICIO MEMBERS: Representatives of the California Department of Water Resources\, U.S. Bureau of Reclamation\, U.S. Fish and Wildlife Service\, Delta Stewardship Council\, and Sacramento-San Joaquin Delta Conservancy.
URL:https://delta.ca.gov/calendar/dpac-2023-12-12/
LOCATION:Steamboat Bar and Grill\, 12414 CA 160\, Courtland\, CA\, 95615\, United States
CATEGORIES:Delta Protection Commission Meetings
END:VEVENT
END:VCALENDAR